BEGIN:VCALENDAR
VERSION:2.0
PRODID:-//ChamberMaster//Event Calendar 2.0//EN
METHOD:PUBLISH
X-PUBLISHED-TTL:P3D
REFRESH-INTERVAL:P3D
CALSCALE:GREGORIAN
BEGIN:VEVENT
DTSTART;VALUE=DATE:20111218
DTEND;VALUE=DATE:20111219
TRANSP:TRANSPARENT
X-MICROSOFT-CDO-ALLDAYEVENT:TRUE
SUMMARY:Event at Sanctuary's Awakening
DESCRIPTION:Military Mondays:  Every Monday active military personnell receive a 50% discount.
X-ALT-DESC;FMTTYPE=text/html:Military Mondays:&nbsp\; Every Monday active military personnell receive a 50% discount.
LOCATION:803 W. Broad St. #700 Falls Church\, VA 22046
UID:e.1250.184
SEQUENCE:3
DTSTAMP:20260423T083554Z
URL:https://business.fallschurchchamber.org/events/details/event-at-sanctuary-s-awakening-12-18-2011-184
END:VEVENT

END:VCALENDAR
