BEGIN:VCALENDAR
VERSION:2.0
PRODID:-//ChamberMaster//Event Calendar 2.0//EN
METHOD:PUBLISH
X-PUBLISHED-TTL:P3D
REFRESH-INTERVAL:P3D
CALSCALE:GREGORIAN
BEGIN:VEVENT
DTSTART:20110906T230000Z
DTEND:20110907T000000Z
X-MICROSOFT-CDO-ALLDAYEVENT:FALSE
SUMMARY:Fall Properties "Lets Talk Tuesdays"
DESCRIPTION:Empty Nesters: Should You Move or Age in Place - Fall Properties's "Let's Talk Tuesdays" continues with this free presentation on Tues\, Sept. 6 from 7-8pm. Laura Fall will discuss the concept of universal design\, one that makes a home safer and more functional for everyone. Fall Properties is located at 212-A N. West Street. Call 703-536-7001 or sign up at www.fallproperties.com to reserve your space - seating is limited.
X-ALT-DESC;FMTTYPE=text/html:<p style="margin: 0in 0in 0pt\; color: #245b7c">\n	<span style="font-family: arial"><strong>Empty Nesters: Should You Move or Age in Place - Fall Properties&#39\;s</strong> &quot\;Let&#39\;s Talk Tuesdays&quot\; continues with this free presentation on <em><strong>Tues\, Sept. 6</strong></em> from 7-8pm. <strong>Laura Fall</strong> will discuss the concept of universal design\, one that makes a home safer and more functional for everyone. Fall Properties is located at 212-A N. West Street. Call 703-536-7001 or sign up at <a href="http://www.fallproperties.com/" title="www.fallproperties.com"><font color="#348900" face="Tahoma">www.fallproperties.com</font></a> to reserve your space - seating is limited. <span _fck_bookmark="1" style="display: none">&nbsp\;</span></span></p>\n
LOCATION:Fall Properties is located at 212-A N. West Street
UID:e.1250.18
SEQUENCE:3
DTSTAMP:20260423T044504Z
URL:https://business.fallschurchchamber.org/events/details/fall-properties-lets-talk-tuesdays-09-06-2011-18
END:VEVENT

END:VCALENDAR
