BEGIN:VCALENDAR
VERSION:2.0
PRODID:-//ChamberMaster//Event Calendar 2.0//EN
METHOD:PUBLISH
X-PUBLISHED-TTL:P3D
REFRESH-INTERVAL:P3D
CALSCALE:GREGORIAN
BEGIN:VEVENT
DTSTART:20250607T230000Z
DTEND:20250608T010000Z
X-MICROSOFT-CDO-ALLDAYEVENT:FALSE
SUMMARY:Falls Church All Member Show A-L Opens on June 7 with Reception
DESCRIPTION:Falls Church Arts celebrates its member artist's best work during the All Member Show at the Falls Church Arts gallery from June 7 to August 10. The mixed-media exhibit will be held in two parts this year: submissions from members with last names from A-L will be on view from June 7 to July 6. Submissions from artists with last names from M-Z will be on view from July 12 to August 10.\n\nAn opening reception will be held from 7 p.m. to 9 p.m. on Saturday\, June 7\, for the artists in the first member show. The reception is free and is open to the public.
X-ALT-DESC;FMTTYPE=text/html:<span style="color:black\; font-family:times new roman\,serif\; font-size:14pt">Falls Church Arts celebrates its member artist&rsquo\;s best work during the All Member Show at the Falls Church Arts gallery from June 7 to August 10. The mixed-media exhibit will be held in two parts this year: submissions from members with last names from A-L will be on view from June 7 to July 6. Submissions from artists with last names from M-Z will be on view from July 12 to August 10.<br />\nAn opening reception will be held from 7 p.m. to 9 p.m. on Saturday\, June 7\, for the artists in the first member show. The reception is free and is open to the public.</span>
LOCATION:700-B. West Broad Street\, Falls Church\, VA
UID:e.1250.81035
SEQUENCE:3
DTSTAMP:20260420T133851Z
URL:https://business.fallschurchchamber.org/events/details/falls-church-all-member-show-a-l-opens-on-june-7-with-reception-81035
END:VEVENT

END:VCALENDAR
