BEGIN:VCALENDAR
VERSION:2.0
PRODID:-//ChamberMaster//Event Calendar 2.0//EN
METHOD:PUBLISH
X-PUBLISHED-TTL:P3D
REFRESH-INTERVAL:P3D
CALSCALE:GREGORIAN
BEGIN:VEVENT
DTSTART:20260507T130000Z
DTEND:20260507T160000Z
X-MICROSOFT-CDO-ALLDAYEVENT:FALSE
SUMMARY:Falls Church Audio Equipment Online Auction
DESCRIPTION:Audio Equipment Online Auction\n\nThursday\, May 7th starting at 12:00pm EST\n\nQuinn's Auction Galleries presents a Washington DC Area in- home online only auction. This auction features a remarkable vintage Hi-Fi collection from a well-known local audiophile\, Mr. Brett Mullin. A passionate collector of rare and high-quality antique and vintage audio equipment\, Mr. Mullin dedicated years to curating an impressive selection of Hi-Fi pieces.\n\n\n\nIn addition to his collecting\, he operated a respected local business specializing in the repair and restoration of electronic audio equipment. His expertise and care are reflected in the condition and uniqueness of the items included in this auction.\n\n\n\nThis sale marks the first of three auctions showcasing Mr. Mullin's extensive collection\, offering collectors multiple opportunities to acquire exceptional pieces.\n\n\n\nThis collection presents a rare opportunity for enthusiasts and audiophiles to own distinctive\, well-maintained Hi-Fi components with a rich history.\n\nSALE INFO:\n\nMay 7th 2026\n\nFirst lot closing at 12:00pm Eastern\n\n25% Buyer's Premium\n\nPICKUP INFO:\n\nMay 11th & 12 9:40am-2:00pm\n\nREMOVAL ONLY BY APPOINTMENT. \n\nLink to sign up will be included on winners' invoice.\n\nNo weekend pick up. \n\nPlease make sure that you will be able to make your pickup deadline BEFORE placing a bid.\n\nPLEASE PICK UP THE ITEMS THAT YOU BID ON AND WIN!!\n\nYOUR ITEM WILL BE DONATED OR DISCARDED IF YOU DO NOT SHOW UP.\n\nNO SHIPPING AVAILABLE FOR THIS AUCTION.
X-ALT-DESC;FMTTYPE=text/html:<h3><a href="https://quinnsauction.appspot.com/auctions/bqxMCLrvsI6htlzFtBnz/a/QP297-Falls-Church--VA---In-Home-Auction">Audio Equipment Online Auction</a></h3>\n\n<p>Thursday\, May 7th&nbsp\;starting at 12:00pm EST</p>\n\n<p>Quinn&#39\;s Auction Galleries presents a Washington DC Area in- home online only auction. This auction features a remarkable vintage Hi-Fi collection from a well-known local audiophile\, Mr. Brett Mullin. A passionate collector of rare and high-quality antique and vintage audio equipment\, Mr. Mullin dedicated years to curating an impressive selection of Hi-Fi pieces.<br />\n<br />\nIn addition to his collecting\, he operated a respected local business specializing in the repair and restoration of electronic audio equipment. His expertise and care are reflected in the condition and uniqueness of the items included in this auction.<br />\n<br />\nThis sale marks the first of three auctions showcasing Mr. Mullin&rsquo\;s extensive collection\, offering collectors multiple opportunities to acquire exceptional pieces.<br />\n<br />\nThis collection presents a rare opportunity for enthusiasts and audiophiles to own distinctive\, well-maintained Hi-Fi components with a rich history.</p>\n\n<p><strong>SALE INFO:</strong><br />\nMay 7th 2026<br />\nFirst lot closing at 12:00pm Eastern<br />\n25% Buyer&#39\;s Premium</p>\n\n<p><strong>PICKUP INFO:</strong><br />\nMay 11th &amp\; 12 9:40am-2:00pm<br />\nREMOVAL ONLY BY APPOINTMENT.&nbsp\;<br />\nLink to sign up will be included on winners&#39\; invoice.<br />\n<strong>No weekend pick up.</strong>&nbsp\;<br />\nPlease make sure that you will be able to make your pickup deadline BEFORE placing a bid.<br />\nPLEASE PICK UP THE ITEMS THAT YOU BID ON AND WIN!!<br />\nYOUR ITEM WILL BE DONATED OR DISCARDED IF YOU DO NOT SHOW UP.</p>\n\n<p><strong>NO SHIPPING AVAILABLE FOR THIS AUCTION.&nbsp\;</strong></p>\n
LOCATION:
UID:e.1250.84903
SEQUENCE:3
DTSTAMP:20260422T021241Z
URL:https://business.fallschurchchamber.org/events/details/falls-church-audio-equipment-online-auction-84903
END:VEVENT

END:VCALENDAR
