BEGIN:VCALENDAR
VERSION:2.0
PRODID:-//ChamberMaster//Event Calendar 2.0//EN
METHOD:PUBLISH
X-PUBLISHED-TTL:P3D
REFRESH-INTERVAL:P3D
CALSCALE:GREGORIAN
BEGIN:VEVENT
DTSTART:20120512T230000Z
DTEND:20120513T030000Z
X-MICROSOFT-CDO-ALLDAYEVENT:FALSE
SUMMARY:Falls Church Education Foundation Spring Gala and Auction
DESCRIPTION:This annual fundraisers attracts over 200 Falls Church City Public School supporters including school families\, elected officials and corporate sponsors.  The event features a silent and live auction\, reception and seated catered dinner\,  as well as entertainment by the George Mason High School Jazz Ensemble.  \n\nTo purchase tickets\, go to www.fcedf.org. \n\n\n\nPreceding the Gala is an online auction going on RIGHT NOW.  Generous local businesses have donated some exciting and unique auction items--check it out at www.fcedf.org and click on Bid Now!
X-ALT-DESC;FMTTYPE=text/html:This annual fundraisers attracts over 200 Falls Church City Public School supporters including school families\, elected officials and corporate sponsors.&nbsp\; The event features a silent and live auction\, reception and seated catered dinner\, &nbsp\;as well as entertainment by the George Mason High School Jazz Ensemble. &nbsp\;<br />\nTo purchase tickets\, go to <a href="http://www.fcedf.org">www.fcedf.org</a>.&nbsp\;<br />\n<br />\nPreceding the Gala is an online auction going on RIGHT NOW.&nbsp\; Generous local businesses have donated some exciting and unique auction items--check it out at <a href="http://www.fcedf.org">www.fcedf.org</a> and click on <em>Bid Now</em>!
LOCATION:U.S. Chamber of Commerce Hall of Flags
UID:e.1250.259
SEQUENCE:3
DTSTAMP:20260425T165349Z
URL:https://business.fallschurchchamber.org/events/details/falls-church-education-foundation-spring-gala-and-auction-05-12-2012-259
END:VEVENT

END:VCALENDAR
