BEGIN:VCALENDAR
VERSION:2.0
PRODID:-//ChamberMaster//Event Calendar 2.0//EN
METHOD:PUBLISH
X-PUBLISHED-TTL:P3D
REFRESH-INTERVAL:P3D
CALSCALE:GREGORIAN
BEGIN:VEVENT
DTSTART;VALUE=DATE:20111203
DTEND;VALUE=DATE:20111204
TRANSP:TRANSPARENT
X-MICROSOFT-CDO-ALLDAYEVENT:TRUE
SUMMARY:Falls Church Holiday Craft Show
DESCRIPTION:19th Annual City of Falls Church\n\n	Holiday Craft Show\n\n	\n\n	At the FC Community Center: 223 Little Falls Street\n\n	\n\n	Saturday\, December 3\,  9:00 am - 4:00 pm\n\n	Sunday\, December 4\, 11:00 am - 4:00 pm\n\n	\n\n	more than 60 crafters selling unique handmade items and baked goods!
X-ALT-DESC;FMTTYPE=text/html:<div>\n	19th Annual City of Falls Church<br />\n	Holiday Craft Show<br />\n	<br />\n	At the FC Community Center: 223 Little Falls Street<br />\n	<br />\n	Saturday\, December 3\, &nbsp\;9:00 am - 4:00 pm<br />\n	Sunday\, December 4\, 11:00 am - 4:00 pm<br />\n	<br />\n	more than 60 crafters selling unique handmade items and baked goods!</div>\n
LOCATION:
UID:e.1250.179
SEQUENCE:3
DTSTAMP:20260423T091408Z
URL:https://business.fallschurchchamber.org/events/details/falls-church-holiday-craft-show-12-03-2011-179
END:VEVENT

END:VCALENDAR
