BEGIN:VCALENDAR
VERSION:2.0
PRODID:-//ChamberMaster//Event Calendar 2.0//EN
METHOD:PUBLISH
X-PUBLISHED-TTL:P3D
REFRESH-INTERVAL:P3D
CALSCALE:GREGORIAN
BEGIN:VEVENT
DTSTART:20120726T220000Z
DTEND:20120727T000000Z
X-MICROSOFT-CDO-ALLDAYEVENT:FALSE
SUMMARY:Falls Church News-Press Summer Party
DESCRIPTION:July Networking Mixer - Falls Church News-Press Annual Summer Party\, Thursday\, July 26th in their offices in Suite 508 at 200 Little Falls Street in FC. Details TBD but be sure to mark your calendar now for this always popular and fun event!
X-ALT-DESC;FMTTYPE=text/html:<div style="color: gray">\n<p style="margin: 0in 0in 0pt"><font size="3"><strong><span style="color: #245c7b">July Networking Mixer</span></strong><span style="color: #245c7b"> - Falls Church News-Press&nbsp\;Annual Summer Party\,&nbsp\;Thursday\, July 26th in their offices&nbsp\;in Suite 508 at 200 Little Falls Street in&nbsp\;FC. Details TBD but be sure to mark your calendar now for this always popular and fun event!&nbsp\;<span _fck_bookmark="1" style="display: none">&nbsp\;</span></span></font><span style="color: #003554\; font-size: 18pt"><o:p></o:p></span></p>\n</div>\n
LOCATION:200 Little Falls Street Falls Church
UID:e.1250.311
SEQUENCE:3
DTSTAMP:20260425T202548Z
URL:https://business.fallschurchchamber.org/events/details/falls-church-news-press-summer-party-07-26-2012-311
END:VEVENT

END:VCALENDAR
