BEGIN:VCALENDAR
VERSION:2.0
PRODID:-//ChamberMaster//Event Calendar 2.0//EN
METHOD:PUBLISH
X-PUBLISHED-TTL:P3D
REFRESH-INTERVAL:P3D
CALSCALE:GREGORIAN
BEGIN:VEVENT
DTSTART:20250709T140000Z
DTEND:20250709T160000Z
X-MICROSOFT-CDO-ALLDAYEVENT:FALSE
SUMMARY:Falls Church\, VA Collectibles Auction ***ONLINE ONLY***
DESCRIPTION:QP275 Falls Church\, VA Collectibles Auction\n\nThis auction features large and eclectic assortment of collectibles\, fine and decorative art\, vintage and antique ceramics\, glassware\, mid-century treasures\, books\, furniture and much more.\n\n\n\nSALE INFO:\n\nJuly 9th\, 2025\n\nFirst lot closing at 12:00PM Eastern\n\nOnline Only Auction\n\n25% Buyers Premium\n\nTerms & Conditions can be found by following the link\, in the left hand bar of the sale page.\n\nNo in person inspection available - please email with questions about items\n\nPICKUP INFO:\n\nFalls Church\, VA\n\nJuly 11th 9:40am to 2:00pm\n\nAddress for pickup and appointment signup provided to winners via auction invoice.\n\nPlease bring appropriate assistance for removal. We will not be able to offer assistance.\n\nIf you do not come at your designated pickup time your lots will be forfeited without refund.\n\nNo shipping available for this auction.
X-ALT-DESC;FMTTYPE=text/html:<p><a href="https://quinnsauction.appspot.com/auctions/AEMYFAD0Qk0PFIoLKyNh/a/QP275-Falls-Church--VA---Collectibles-Auction"><span style="font-size:18px">QP275 Falls Church\, VA Collectibles Auction</span></a></p>\n\n<p>This auction features large and eclectic assortment of collectibles\, fine and decorative art\, vintage and antique ceramics\, glassware\, mid-century treasures\, books\, furniture and much more.<br />\n<br />\n<strong>SALE INFO:</strong><br />\nJuly 9th\, 2025<br />\nFirst lot closing at 12:00PM Eastern<br />\nOnline Only Auction<br />\n25% Buyers Premium<br />\nTerms &amp\; Conditions can be found by following the link\, in the left hand bar of the sale page.<br />\nNo in person inspection available - please email with questions about items</p>\n\n<p><strong>PICKUP INFO:</strong><br />\nFalls Church\, VA<br />\nJuly 11th 9:40am to 2:00pm<br />\nAddress for pickup and appointment signup provided to winners via auction invoice.<br />\nPlease bring appropriate assistance for removal. We will not be able to offer assistance.<br />\n<strong>If you do not come at your designated pickup time your lots will be forfeited without refund.</strong><br />\n<strong>No shipping available for this auction.</strong></p>\n
LOCATION:
UID:e.1250.81277
SEQUENCE:3
DTSTAMP:20260420T122634Z
URL:https://business.fallschurchchamber.org/events/details/falls-church-va-collectibles-auction-online-only-81277
END:VEVENT

END:VCALENDAR
