BEGIN:VCALENDAR
VERSION:2.0
PRODID:-//ChamberMaster//Event Calendar 2.0//EN
METHOD:PUBLISH
X-PUBLISHED-TTL:P3D
REFRESH-INTERVAL:P3D
CALSCALE:GREGORIAN
BEGIN:VEVENT
DTSTART:20250609T230000Z
DTEND:20250610T003000Z
X-MICROSOFT-CDO-ALLDAYEVENT:FALSE
SUMMARY:Falls Church Volunteer Fire Department Volunteer Information Session
DESCRIPTION:Are you ready to give back to your community? Join us on the second Monday of each month to learn more about becoming a volunteer with FCVFD. We'll cover training opportunities\, membership perks\, and what it's like to be a volunteer at our department. Visit www.fallschurchfire.org/join-us  to learn more!
X-ALT-DESC;FMTTYPE=text/html:<p><span style="background-color:transparent\; color:rgb(0\, 0\, 0)\; font-family:roboto\,sans-serif\; font-size:10.5pt">Are you ready to give back to your community? Join us on the second Monday of each month to learn more about becoming a volunteer with FCVFD. We&rsquo\;ll cover training opportunities\, membership perks\, and what it&rsquo\;s like to be a volunteer at our department. Visit </span><span style="background-color:transparent\; font-family:roboto\,sans-serif\; font-size:10.5pt">www.fallschurchfire.org/join-us</span>&nbsp\;<span style="background-color:transparent\; color:rgb(0\, 0\, 0)\; font-family:roboto\,sans-serif\; font-size:10.5pt"> to learn more!</span></p>\n\n<div>&nbsp\;</div>\n
LOCATION:6950 Little Falls Rd\, Arlington\, Virginia\, US\, 22213 Station 6 Upstairs Meeting Hall
UID:e.1250.80965
SEQUENCE:3
DTSTAMP:20260420T134355Z
URL:https://business.fallschurchchamber.org/events/details/falls-church-volunteer-fire-department-volunteer-information-session-06-09-2025-80965
END:VEVENT

END:VCALENDAR
