BEGIN:VCALENDAR
VERSION:2.0
PRODID:-//ChamberMaster//Event Calendar 2.0//EN
METHOD:PUBLISH
X-PUBLISHED-TTL:P3D
REFRESH-INTERVAL:P3D
CALSCALE:GREGORIAN
BEGIN:VEVENT
DTSTART:20260509T180000Z
DTEND:20260509T230000Z
X-MICROSOFT-CDO-ALLDAYEVENT:FALSE
SUMMARY:Falls Church Women's Crawl
DESCRIPTION:The Women's Crawl is a 5-hour immersive journey featuring interactive\, transformational stations\, exclusive drink and food specials\, and the opportunity to meet women owned wellness businesses. Together\, we'll celebrate womanhood\, connection\, and personal growth as we move intentionally through the city.  Interested in sponsoring or participating? Click here\n\nParticipating locations include:\n\n\n	Ireland's Four Provinces - 105 W. Broad St(Check-in Location)* Featuring Expand Psychlogy & Shrinks on Tap\n	Stratford Garden- 300 W. Broad St (Featuring Colleen Avis Coaching)\n	Dogwood Tavern- 132 W. Broad St (a Chamber Member)\n	Thompsons Italian- 124 N. Washington St (4:30PM-7PM ONLY) * (a Chamber Member)\n	Clare & Don's Beach Shack - 130 N. Washington (Featuring Cat Rad Creative \; Closing Dance Party @545)*\n\n\nAfter Crawl Special Offer at GrillMarx: 15% of tab for all participants who show their ticket. (a Chamber Member)
X-ALT-DESC;FMTTYPE=text/html:<p>The Women&rsquo\;s Crawl is a&nbsp\;5-hour immersive journey&nbsp\;featuring interactive\, transformational stations\, exclusive drink and food specials\, and the opportunity to meet women owned wellness businesses. Together\, we&rsquo\;ll celebrate womanhood\, connection\, and personal growth as we move intentionally through the city.&nbsp\;<em>&nbsp\;Interested in sponsoring or participating?&nbsp\;</em><a href="https://forms.gle/YooZbhzHB5cc3Cdg6" rel="nofollow noopener noreferrer" style="box-sizing: border-box\; padding: 0px\; margin: 0px\; color: rgb(54\, 89\, 227)\;" target="_blank" title="https://forms.gle/YooZbhzHB5cc3Cdg6"><em>Click here</em></a></p>\n\n<p>Participating locations include:</p>\n\n<ul>\n	<li>Ireland&rsquo\;s Four Provinces - 105 W. Broad St<em>(Check-in Location)* Featuring Expand Psychlogy &amp\; Shrinks on Tap</em></li>\n	<li>Stratford Garden- 300 W. Broad St (<em>Featuring Colleen Avis Coaching)</em></li>\n	<li>Dogwood Tavern- 132 W. Broad St <strong>(a Chamber Member)</strong></li>\n	<li>Thompsons Italian- 124 N. Washington St (4:30PM-7PM ONLY) * <strong>(a Chamber Member)</strong></li>\n	<li>Clare &amp\; Don&rsquo\;s Beach Shack - 130 N. Washington&nbsp\;<em>(Featuring Cat Rad Creative \; Closing Dance Party @545)*</em></li>\n</ul>\n\n<p>After Crawl Special Offer&nbsp\;at&nbsp\;<a href="https://www.gmxfallschurch.com/" rel="nofollow noopener noreferrer" style="box-sizing: border-box\; padding: 0px\; margin: 0px\; color: rgb(54\, 89\, 227)\;" target="_blank" title="https://www.gmxfallschurch.com/">GrillMarx:</a>&nbsp\;15% of tab for all participants who show their ticket. <strong>(a Chamber Member)</strong></p>\n
LOCATION:Ireland's Four Provinces - 105 W. Broad St(Check-in Location)* Featuring Expand Psychology & Shrinks on Tap Stratford Garden- 300 W. Broad St (Featuring Colleen Avis Coaching) Dogwood Tavern- 132 W. Broad St. (Chamber Member) Thompsons Italian- 124 N. Washington St (4:30PM-7PM ONLY)* (Chamber Member) Clare & Don's Beach Shack - 130 N. Washington (Featuring Cat Rad Creative \; Closing Dance Party @545)* After Crawl Special Offer at GrillMarx: 15% of tab for all participants who show their ticket. ( GrillMarx is a Chamber Member)
UID:e.1250.84901
SEQUENCE:3
DTSTAMP:20260425T022832Z
URL:https://business.fallschurchchamber.org/events/details/falls-church-women-s-crawl-84901
END:VEVENT

END:VCALENDAR
