BEGIN:VCALENDAR
VERSION:2.0
PRODID:-//ChamberMaster//Event Calendar 2.0//EN
METHOD:PUBLISH
X-PUBLISHED-TTL:P3D
REFRESH-INTERVAL:P3D
CALSCALE:GREGORIAN
BEGIN:VEVENT
DTSTART:20120224T000000Z
DTEND:20120224T030000Z
X-MICROSOFT-CDO-ALLDAYEVENT:FALSE
SUMMARY:FCA Patrons Show Reception
DESCRIPTION:For this Patrons Show\, founders of Falls Church Arts and board members past and present have lent art purchased from FCA artists. This special show and reception are part of a celebration of  FCA patrons' dedication\, service\, and contributions to the arts in Falls Church. The celebration will culminate in a fundraiser at Mad Fox Brewing Company on February 29\, featuring live music and great prizes as well as a timeline of FCA's history and recognition of its patrons. Mad Fox is generously donating a portion of the day's proceeds to FCA.\n\n \n\nPlease join us on February 23 and February 29 to learn more about FCA's past and help support its growth into the future.
X-ALT-DESC;FMTTYPE=text/html:<span style="font-size: 9pt"><span style="font-family: verdana\, sans-serif">For this Patrons Show\, founders of Falls Church Arts&nbsp\;and board members past and present have lent art purchased from FCA artists. This special show and reception are part of a celebration of &nbsp\;FCA patrons&#39\; dedication\, service\, and contributions to the arts in Falls Church.&nbsp\;The celebration will culminate in a fundraiser at Mad Fox Brewing Company on February 29\, featuring live music and great prizes as well as&nbsp\;a timeline of FCA&#39\;s history and recognition of its patrons. Mad Fox is generously donating a portion of the day&#39\;s proceeds to FCA.</span></span><br />\n&nbsp\;<br />\n<span style="font-size: 9pt"><span style="font-family: verdana\, sans-serif">Please join us on February 23 and February 29 to learn more about FCA&#39\;s past and help support its growth into the future.&nbsp\;&nbsp\;</span></span><br />\n
LOCATION:ArtSpace Falls Church\, 410 S. Maple Ave.\, Falls Church
UID:e.1250.220
SEQUENCE:3
DTSTAMP:20260425T121918Z
URL:https://business.fallschurchchamber.org/events/details/fca-patrons-show-reception-02-23-2012-220
END:VEVENT

END:VCALENDAR
