BEGIN:VCALENDAR
VERSION:2.0
PRODID:-//ChamberMaster//Event Calendar 2.0//EN
METHOD:PUBLISH
X-PUBLISHED-TTL:P3D
REFRESH-INTERVAL:P3D
CALSCALE:GREGORIAN
BEGIN:VEVENT
DTSTART:20120829T223000Z
DTEND:20120830T010000Z
X-MICROSOFT-CDO-ALLDAYEVENT:FALSE
SUMMARY:Ferragosto Dinner and Wine Tasting
DESCRIPTION:Ferragosto Dinner Buffet & Wine Tasting\n\n	 \n\n	Wednesday\, August 29\, 2012\n\n	\n\n	6:30   9:00 pm\n\n	Enjoy a complete buffet of gourmet Italian dishes and selected wines\n\n	by\n\n	Bravo Wine Cellar\n\n	\n\n	Giuseppe Penza\, Host\n\n	Samples of select fine wines from Tuscany\n\n	\n\n	All wines available with special pricing this evening only!\n\n	$35 per person (plus tax)\n\n	\n\n	Includes a gourmet buffet along with a glass of your favorite fine wine being presented\n\n	\n\n	RSVP 703.533.1191
X-ALT-DESC;FMTTYPE=text/html:<p style="text-align: center">\n	&nbsp\;</p>\n<h2 style="text-align: center">\n	<span style="color: #006400"><strong>Ferragosto Dinner Buffet &amp\; Wine Tasting</strong></span></h2>\n<p style="text-align: center">\n	&nbsp\;</p>\n<h3 style="text-align: center">\n	Wednesday\, August 29\, 2012<br />\n	<br />\n	6:30 &ndash\; 9:00 pm</h3>\n<h4 style="text-align: center">\n	Enjoy a complete buffet of gourmet Italian dishes and selected wines</h4>\n<p style="text-align: center">\n	by</p>\n<h3 style="text-align: center">\n	Bravo Wine Cellar<br />\n	<br />\n	Giuseppe Penza\, Host</h3>\n<h4 style="text-align: center">\n	Samples of select fine wines from Tuscany<br />\n	<br />\n	All wines available with special pricing this evening only!</h4>\n<h3 style="text-align: center">\n	$35 per person (plus tax)</h3>\n<h4 style="text-align: center">\n	<br />\n	Includes a gourmet buffet along with a glass of your favorite fine wine being presented<br />\n	<br />\n	RSVP 703.533.1191</h4>\n
LOCATION:Sfizi Cafe 800 Broad Street.
UID:e.1250.318
SEQUENCE:3
DTSTAMP:20260425T234550Z
URL:https://business.fallschurchchamber.org/events/details/ferragosto-dinner-and-wine-tasting-08-29-2012-318
END:VEVENT

END:VCALENDAR
