BEGIN:VCALENDAR
VERSION:2.0
PRODID:-//ChamberMaster//Event Calendar 2.0//EN
METHOD:PUBLISH
X-PUBLISHED-TTL:P3D
REFRESH-INTERVAL:P3D
CALSCALE:GREGORIAN
BEGIN:VEVENT
DTSTART:20121013T140000Z
DTEND:20121013T200000Z
X-MICROSOFT-CDO-ALLDAYEVENT:FALSE
SUMMARY:Fire Department Open House
DESCRIPTION:Fire Prevention Week Open House\n\n\n\nThe Falls Church Volunteer Fire Department and Arlington County Fire Department invite you to the Fire Station #6 Open House\n\n\n\nMeet Sparky the Fire Dog\n\nFree food & games\n\nChild ID's by the Sherrif's Office\n\nHome Safety Information\n\nSilent Auction\n\nSafety Demonstrations
X-ALT-DESC;FMTTYPE=text/html:Fire Prevention Week Open House<br />\n<br />\nThe Falls Church Volunteer Fire Department and Arlington County Fire Department invite you to the Fire Station #6 Open House<br />\n<br />\nMeet Sparky the Fire Dog<br />\nFree food &amp\; games<br />\nChild ID&#39\;s by the Sherrif&#39\;s Office<br />\nHome Safety Information<br />\nSilent Auction<br />\nSafety Demonstrations
LOCATION:Fire Station #6 555 North Washington St.
UID:e.1250.364
SEQUENCE:3
DTSTAMP:20260426T012336Z
URL:https://business.fallschurchchamber.org/events/details/fire-department-open-house-10-13-2012-364
END:VEVENT

END:VCALENDAR
