BEGIN:VCALENDAR
VERSION:2.0
PRODID:-//ChamberMaster//Event Calendar 2.0//EN
METHOD:PUBLISH
X-PUBLISHED-TTL:P3D
REFRESH-INTERVAL:P3D
CALSCALE:GREGORIAN
BEGIN:VEVENT
DTSTART:20120504T210000Z
DTEND:20120505T000000Z
X-MICROSOFT-CDO-ALLDAYEVENT:FALSE
SUMMARY:First Friday at Stifel and Capra
DESCRIPTION:Join us for our monthly celebration of First Friday in Falls Church and meet Heather Lezla\, a Ceramic Artist. Heather will be introducing her 2012 Spring collection: Nature inspired garden markers just in time for planting\; Cheese markers\, a gift to you and your foodie friends\, and urban themed tiles to use as coasters\, trivets and accent tiles. Meet our resident artists and enjoy the newest art & artisan offerings along with tasty snacks. Free\, open to the public.
X-ALT-DESC;FMTTYPE=text/html:Join us for our monthly celebration of First Friday in Falls Church and meet Heather Lezla\, a Ceramic Artist. Heather will be introducing her 2012 Spring collection: Nature inspired garden markers just in time for planting\; Cheese markers\, a gift to you and your foodie friends\, and urban themed tiles to use as coasters\, trivets and accent tiles. Meet our resident artists and enjoy the newest art &amp\; artisan offerings along with tasty snacks. Free\, open to the public.
LOCATION:Stifel & Capra 260 West Broad Street Stifel & Capra 260 W. Broad Street\, Falls Church\, VA 22046
UID:e.1250.248
SEQUENCE:3
DTSTAMP:20260425T165110Z
URL:https://business.fallschurchchamber.org/events/details/first-friday-at-stifel-and-capra-05-04-2012-248
END:VEVENT

END:VCALENDAR
