BEGIN:VCALENDAR
VERSION:2.0
PRODID:-//ChamberMaster//Event Calendar 2.0//EN
METHOD:PUBLISH
X-PUBLISHED-TTL:P3D
REFRESH-INTERVAL:P3D
CALSCALE:GREGORIAN
BEGIN:VEVENT
DTSTART:20120302T220000Z
DTEND:20120303T010000Z
X-MICROSOFT-CDO-ALLDAYEVENT:FALSE
SUMMARY:First Friday Featured Artist
DESCRIPTION:Join us for our monthly celebration of First Friday in Falls Church and meet Grace Napoleon of Folk Couture as she presents her line of upcycled clothes redesigned from remnants and old favorites. As beautiful as the women who wear them! Meet our resident artists and enjoy the newest art & artisan offerings along with tasty snacks. Free\, open to the public.
X-ALT-DESC;FMTTYPE=text/html:<p style="margin:0in\;margin-bottom:.0001pt\;background:white">\n	&nbsp\;</p>\n<p style="margin:0in\;margin-bottom:.0001pt\;background:white">\n	<span mso-bidi-font-weight:="" style="font-size:11.0pt\;font-family:" trebuchet="">Join us for our monthly celebration of First Friday in Falls Church and m</span><span style="font-size:11.0pt\;font-family:" trebuchet="">eet Grace Napoleon of Folk Couture as she presents her line of upcycled clothes redesigned from remnants and old favorites. As beautiful as the women who wear them! Meet our resident artists and enjoy the newest art &amp\; artisan offerings along with tasty snacks. Free\, open to the public.&nbsp\;</span></p>\n
LOCATION:Stifel & Capra
UID:e.1250.214
SEQUENCE:3
DTSTAMP:20260425T134643Z
URL:https://business.fallschurchchamber.org/events/details/first-friday-featured-artist-03-02-2012-214
END:VEVENT

END:VCALENDAR
