BEGIN:VCALENDAR
VERSION:2.0
PRODID:-//ChamberMaster//Event Calendar 2.0//EN
METHOD:PUBLISH
X-PUBLISHED-TTL:P3D
REFRESH-INTERVAL:P3D
CALSCALE:GREGORIAN
BEGIN:VEVENT
DTSTART:20120407T210000Z
DTEND:20120408T000000Z
X-MICROSOFT-CDO-ALLDAYEVENT:FALSE
SUMMARY:FirstFriday at Stifel and Capra
DESCRIPTION:Falls Church favorite watercolorist Bill Abel will be our featured artist for April. Meet Bill and our resident artists for snacks and convivial conversation. Bill will have originals\, prints & cards for sale. Bill's wonderful watercolors will be featured throughout the month of April.
X-ALT-DESC;FMTTYPE=text/html:Falls Church favorite watercolorist Bill Abel will be our featured artist for April. Meet Bill and our resident artists for snacks and convivial conversation. Bill will have originals\, prints &amp\; cards for sale. Bill&#39\;s wonderful watercolors will be featured throughout the month of April.&nbsp\;
LOCATION:260 West Broad Street Falls Church\, VA 22046
UID:e.1250.239
SEQUENCE:3
DTSTAMP:20260425T151849Z
URL:https://business.fallschurchchamber.org/events/details/firstfriday-at-stifel-and-capra-04-07-2012-239
END:VEVENT

END:VCALENDAR
