BEGIN:VCALENDAR
VERSION:2.0
PRODID:-//ChamberMaster//Event Calendar 2.0//EN
METHOD:PUBLISH
X-PUBLISHED-TTL:P3D
REFRESH-INTERVAL:P3D
CALSCALE:GREGORIAN
BEGIN:VEVENT
DTSTART:20120601T210000Z
DTEND:20120602T000000Z
X-MICROSOFT-CDO-ALLDAYEVENT:FALSE
SUMMARY:FIRSTFriday at Stifel and Capra
DESCRIPTION:In honor of June's Tinner Hills Blues Festival Stifel & Capra presents "S&C Salutes the Blues" a selected and eclectic visual arts show exploring music\, the arts and the color blue! The show debuts during Stifel &Capra's FIRSTfriday celebration June 1st from 5 to 8pm and continues throughout the month. Also on hand FIRSTfriday\, meet our resident artists and enjoy the newest art & artisan offerings along with tasty snacks. Free\, open to the public.
X-ALT-DESC;FMTTYPE=text/html:In honor of June&#39\;s Tinner Hills Blues Festival Stifel &amp\; Capra presents &quot\;S&amp\;C Salutes the Blues&quot\; a selected and eclectic visual arts show exploring music\, the arts and the color blue! The show debuts during Stifel &amp\;Capra&#39\;s FIRSTfriday celebration June 1st from 5 to 8pm and continues throughout the month. Also on hand FIRSTfriday\, meet our resident artists and enjoy the newest art &amp\; artisan offerings along with tasty snacks. Free\, open to the public.
LOCATION:Stifel & Capra 260 West Broad Street \, Falls Church 22046
UID:e.1250.276
SEQUENCE:3
DTSTAMP:20260425T184148Z
URL:https://business.fallschurchchamber.org/events/details/firstfriday-at-stifel-and-capra-06-01-2012-276
END:VEVENT

END:VCALENDAR
