BEGIN:VCALENDAR
VERSION:2.0
PRODID:-//ChamberMaster//Event Calendar 2.0//EN
METHOD:PUBLISH
X-PUBLISHED-TTL:P3D
REFRESH-INTERVAL:P3D
CALSCALE:GREGORIAN
BEGIN:VEVENT
DTSTART:20120707T210000Z
DTEND:20120708T000000Z
X-MICROSOFT-CDO-ALLDAYEVENT:FALSE
SUMMARY:FIRSTfriday at Stifel & Capra
DESCRIPTION:It will be a spicy FIRSTfriday on July 6th at Stifel&Capra .Be the first to sample Bob's Best Quality flagship Rub No. 9 Spice Rub! Try tasty smoked meats and Bar-B-Que sauce made with Bob Stifel's first offering from his new company. Bob will be on hand to give away some of his secrets of smoking & grilling.
X-ALT-DESC;FMTTYPE=text/html:It will be a spicy FIRSTfriday on July 6th at Stifel&amp\;Capra&hellip\;.Be the first to sample Bob&#39\;s Best Quality flagship Rub No. 9 Spice Rub! Try tasty smoked meats and Bar-B-Que sauce made with Bob Stifel&#39\;s first offering from his new company. Bob will be on hand to give away some of his secrets of smoking &amp\; grilling.&nbsp\;
LOCATION:Stifel & Capra 260 West Broad Street Falls Church\, VA 22046
UID:e.1250.294
SEQUENCE:3
DTSTAMP:20260425T202059Z
URL:https://business.fallschurchchamber.org/events/details/firstfriday-at-stifel-capra-07-07-2012-294
END:VEVENT

END:VCALENDAR
