BEGIN:VCALENDAR
VERSION:2.0
PRODID:-//ChamberMaster//Event Calendar 2.0//EN
METHOD:PUBLISH
X-PUBLISHED-TTL:P3D
REFRESH-INTERVAL:P3D
CALSCALE:GREGORIAN
BEGIN:VEVENT
DTSTART:20120803T210000Z
DTEND:20120804T000000Z
X-MICROSOFT-CDO-ALLDAYEVENT:FALSE
SUMMARY:FIRSTfriday at Stifel & Capra
DESCRIPTION:FIRSTfriday Artist Jackie Liedel aka "Local Color" and "No Fixed Address" exhibits local scenes\, alternative jewelry and her newest incarnation Canvas Philosophy. Jackie Liedl has lived in northern Virginia since 1953 and documents the ever changing scene around us. She reminds us of our favorite old haunts and keeps our memories alive. With over 400 scenes of northern Virginia\, D.C.\, and the Outer Banks there's something for everyone. Also on hand FIRSTfriday\, meet our resident artists and enjoy the newest art & artisan offerings along with tasty snacks. Free\, open to the public.
X-ALT-DESC;FMTTYPE=text/html:FIRSTfriday Artist Jackie Liedel aka &quot\;Local Color&quot\; and &quot\;No Fixed Address&quot\; exhibits local scenes\, alternative jewelry and her newest incarnation Canvas Philosophy. Jackie Liedl has lived in northern Virginia since 1953 and documents the ever changing scene around us. She reminds us of our favorite old haunts and keeps our memories alive. With over 400 scenes of northern Virginia\, D.C.\, and the Outer Banks there&#39\;s something for everyone. Also on hand FIRSTfriday\, meet our resident artists and enjoy the newest art &amp\; artisan offerings along with tasty snacks. Free\, open to the public.
LOCATION:Stifel & Capra\, 260 W. Broad Street\, Falls Church\, VA 22046
UID:e.1250.308
SEQUENCE:3
DTSTAMP:20260425T234528Z
URL:https://business.fallschurchchamber.org/events/details/firstfriday-at-stifel-capra-08-03-2012-308
END:VEVENT

END:VCALENDAR
