BEGIN:VCALENDAR
VERSION:2.0
PRODID:-//ChamberMaster//Event Calendar 2.0//EN
METHOD:PUBLISH
X-PUBLISHED-TTL:P3D
REFRESH-INTERVAL:P3D
CALSCALE:GREGORIAN
BEGIN:VEVENT
DTSTART:20121102T210000Z
DTEND:20121103T000000Z
X-MICROSOFT-CDO-ALLDAYEVENT:FALSE
SUMMARY:FIRSTfriday at Stifel & Capra
DESCRIPTION:Friday\, November 2\, 2012\n\nfrom 5:00pm-8:00pm\n\nFIRSTfriday at Stifel & Capra\n\n260 W. Broad Street\, Falls Church\, VA 22046\n\n703-533-3557\n\nwww.stifelandcapra.com\n\nHours: Mon-Sat 10am-6pm\, Sun Noon-5pm\n\n\n\nThis month brings two FIRSTfriday Artists  papercutter David Jenkins and jeweler Ann Carney.\n\nDavid is a self-taught papercutter from Arlington. David uses simple materials to create complex images out of paper. Silhouette paper is black on the front and white on the back where I draw my original designs in the reverse. Each piece is hand cut from a single sheet of paper\, using an X-Acto knife or scissors. I take pride in the exactitude required to work with this rather unforgiving medium one wrong cut and the piece is ruined. I also frequently employ vintage backgrounds\, such as antique sheet music or ledger sheets\, seeds packets\, magazine advertisements or game piece cards\, to contrast with the silhouette. Occasionally\, I incorporate old postage stamps to inject color into a design\, creating a stained glass effect. My designs are eclectic and range from more traditional works echoing German scherenschnitte to humorous contemporary pieces to elaborate alphabets depicting culinary\, floral\, musical\, or marine subjects\n\nPerennial favorite jeweler Ann Carney will bring her latest creations for your viewing and purchasing pleasure \n\n\n\nAlso on hand FIRSTfriday\, meet our resident artists and enjoy the newest art & artisan offerings along with tasty snacks. Free\, open to the public.
X-ALT-DESC;FMTTYPE=text/html:Friday\, November 2\, 2012<br />\nfrom 5:00pm-8:00pm<br />\nFIRSTfriday at Stifel &amp\; Capra<br />\n260 W. Broad Street\, Falls Church\, VA 22046<br />\n703-533-3557<br />\nwww.stifelandcapra.com<br />\nHours: Mon-Sat 10am-6pm\, Sun Noon-5pm<br />\n<br />\nThis month brings two FIRSTfriday Artists&hellip\; papercutter David Jenkins and jeweler Ann Carney.<br />\nDavid is a self-taught papercutter from Arlington. David uses simple materials to create complex images out of paper. Silhouette paper is black on the front and white on the back where I draw my original designs in the reverse. Each piece is hand cut from a single sheet of paper\, using an X-Acto knife or scissors. I take pride in the exactitude required to work with this rather unforgiving medium&mdash\;one wrong cut and the piece is ruined. I also frequently employ vintage backgrounds\, such as antique sheet music or ledger sheets\, seeds packets\, magazine advertisements or game piece cards\, to contrast with the silhouette. Occasionally\, I incorporate old postage stamps to inject color into a design\, creating a stained glass effect. My designs are eclectic and range from more traditional works echoing German scherenschnitte to humorous contemporary pieces to elaborate alphabets depicting culinary\, floral\, musical\, or marine subjects<br />\nPerennial favorite jeweler Ann Carney will bring her latest creations for your viewing and purchasing pleasure&hellip\;<br />\n<br />\nAlso on hand FIRSTfriday\, meet our resident artists and enjoy the newest art &amp\; artisan offerings along with tasty snacks. Free\, open to the public.<br />\n&nbsp\;
LOCATION:Stifel & Capra\, 260 W. Broad Street\, Falls Church\, VA 22046
UID:e.1250.384
SEQUENCE:3
DTSTAMP:20260426T030840Z
URL:https://business.fallschurchchamber.org/events/details/firstfriday-at-stifel-capra-11-02-2012-384
END:VEVENT

END:VCALENDAR
