BEGIN:VCALENDAR
VERSION:2.0
PRODID:-//ChamberMaster//Event Calendar 2.0//EN
METHOD:PUBLISH
X-PUBLISHED-TTL:P3D
REFRESH-INTERVAL:P3D
CALSCALE:GREGORIAN
BEGIN:VEVENT
DTSTART;VALUE=DATE:20120106
DTEND;VALUE=DATE:20120107
TRANSP:TRANSPARENT
X-MICROSOFT-CDO-ALLDAYEVENT:TRUE
SUMMARY:FIRSTfriday of Falls Church
DESCRIPTION:Come to FIRSTfriday of Falls Church and join the fun.  This month highlights include artists for the 11th Annual Falls Church City Student Art Contest with works of over a hundred entries\, DJ Gaskin\, Marina Troy\, Christine Miller\, and Bill Abel.  Free caricatures\, tastings\, yoga and more.  Play performance at ArtSpace and additional musical performances at Ireland's Four Provinces\, Dogwood Tavern\, and Clare and Don's.  \n\n	Below is a complete list of what will be happening at each location on the first Friday of the month\, January 6th.  Don't forget to dine\, shop\, and visit each throughout the month!\n\n	All discounts available on FIRSTfriday only\, just pick up a flyer and you'll be good to go.  Please thank all of our participants throughout the month each time you visit them
X-ALT-DESC;FMTTYPE=text/html:<span style="font-size: 14px"><span style="color: rgb(0\,0\,255)"><font color="#000000" size="2">Come to FIRSTfriday of Falls Church and join the fun.&nbsp\;&nbsp\;This month highlights include&nbsp\;artists for the 11th Annual Falls Church City Student Art Contest with works of over a hundred entries<font face="Arial\, Helvetica\, sans-serif"><font size="2"><font size="2"><font size="2"><font size="2"><span _fck_bookmark="1" style="display: none">\, DJ Gaskin\, </span></font>Marina Troy\, Christine Miller</font></font></font></font><font face="Arial\, Helvetica\, sans-serif"><font size="2">\,&nbsp\;and </font></font><font face="Arial\, Helvetica\, sans-serif" size="2">Bill Abel.&nbsp\; Free caricatures\, tastings\, yoga and more.&nbsp\; Play performance at ArtSpace and additional musical performances&nbsp\;at Ireland&#39\;s Four Provinces\, Dogwood Tavern\, and Clare and Don&#39\;s.<span _fck_bookmark="1" style="display: none">&nbsp\;</span></font></font></span></span><font face="Arial\, Helvetica\, sans-serif" size="2">&nbsp\;</font>\n<p>\n	<font size="2"><font face="Arial\, Helvetica\, sans-serif"><strong>Below is a complete list of what will be happening&nbsp\;at each location on the first Friday of the month\,&nbsp\;January 6th.&nbsp\; Don&#39\;t forget to dine\, shop\, and&nbsp\;visit each throughout the month!</strong></font></font></p>\n<p>\n	<font size="2"><font face="Arial\, Helvetica\, sans-serif">All discounts available on FIRSTfriday only\, just pick up a flyer&nbsp\;and you&rsquo\;ll be good to go.&nbsp\; Please thank all of our participants throughout the month each time you visit them<span _fck_bookmark="1" style="display: none">&nbsp\;</span></font></font></p>\n
LOCATION:At Art and Frame of Falls Church - 703-534-4202\, 111 Park Ave.\, 6-8 pm\, www.artandframeoffallschurch.com 11th Annual Falls Church City Student Art Contest with works of over a hundred entries. FREE caricature drawings for those who attend by caricaturist Marie Cheek of Caricature Artists Group. Open Studio Night with Marina Troy. Open Studio Night viewing watercolorist Bill Abel in action at Park Avenue Gallery Studios\, WhereArtHappens.com. At Red\, White & Bleu Wine and Gourmet - 703-533-WINE (9463)\, 127 S. Washington St.\, 5-8 pm\, www.redwhiteandbleu.com Enjoy the featured theme beer tasting in The Tasting Room with FREE admission. At Creative Cauldron at ArtSpace - 571-239-5288 410 S. Maple Ave\, www.creativecauldron.org "Stories on Steel\, Wood & Ivory" musical performance the DAY AFTER FIRSTfriday! Singer/Songwriters Ben Mason\, Jeff Severson and Jeff Smith invite you to hear their stories on January 7\, the first Saturday of the new year. Purchase tickets for only $15 in advance online or by phone. At Ireland's Four Provinces Restaurant - 703-534-8999\, 105 W. Broad St.\, 8 pm 'til closing\, www.4psva.com Local Irish Balladeer singing songs you know and maybe some you don't know! At Dogwood Tavern - 703-237-8333\, 132 W. Broad St.\, 8 pm 'til closing\, www.dogwoodtavern.com FIRSTfriday After Party with musical performance. At Clay Caf Studios - 703-534-7600\, 101 N. Maple Ave.\, 6-9pm\, www.claywire.com Every day is an ARTful event at Clay Caf ! Come by and check out the new pottery and glass fusing projects that will be available for Valentine's Day gifts. We will also have the sample and sign-up sheet for the January workshop planned for later in the month. Light refreshments. At Curves - 703-536-0140\, 240 W. Broad St.\, 6-8:30pm Displyed works of Christine Miller showcasing her paintings of landscapes and still life in pastel and oils . At Stifel and Capra\, "Art and Ornament for your Wonderful Life" - 703-533-3557\, 260 W. Broad St.\, 5-8 pm\, www.StifelandCapra.com Enjoy DJ Gaskin's passion for paper as she presents her hand made journals\, mixed media collage work and her newest offering - Secret Locket necklaces. Meet our resident artists\, enjoy a snack and convivial company! . . At Sacred Well Yoga Studio - 703-989-8316\, 450 W. Broad St. Ste. 320\, 7-8:15 pm\, www.swys.net Class for Charity. Join us for an all-levels yoga class for charity. 100% of all donations go to local charities. Charity changes monthly. Suggested donation is $10\, but pay what you like. At Fall Properties - 703-536-0140\, 212-A N. West St.\, 5:30-8pm\, www.fallproperties.com Art exhibit and opening reception. Meet the artist\, share a glass\, a nosh\, and some good conversation.
UID:e.1250.189
SEQUENCE:3
DTSTAMP:20260423T103013Z
URL:https://business.fallschurchchamber.org/events/details/firstfriday-of-falls-church-01-06-2012-189
END:VEVENT

END:VCALENDAR
