BEGIN:VCALENDAR
VERSION:2.0
PRODID:-//ChamberMaster//Event Calendar 2.0//EN
METHOD:PUBLISH
X-PUBLISHED-TTL:P3D
REFRESH-INTERVAL:P3D
CALSCALE:GREGORIAN
BEGIN:VEVENT
DTSTART;VALUE=DATE:20110805
DTEND;VALUE=DATE:20110806
TRANSP:TRANSPARENT
X-MICROSOFT-CDO-ALLDAYEVENT:TRUE
SUMMARY:FIRSTfriday of Falls Church
DESCRIPTION:Come to FIRSTfriday of Falls Church and join the fun. This month highlights include artists Jola Noska \, Carol Sargeant \, Mimi Betz \, Marina Troy\, MMMMMMMavvvChristine Miller \, Bill Abel. FREE Famous Dave's Legendary Pit Bar-B-Que give away sample of there award winning ribs at the ArtALot event. Band performance by Doug Parks and the Lone Wolves at ArtALot along with additional artists and showcasing classic car Cruise-In Friday. Musical performances also at Ireland's Four Provinces\, Dogwood Tavern\, and Clare and Don's.  \n\n	\n\n	For a complete listing of events and participating businesses\, visit www.firstfridayoffallschurch.com
X-ALT-DESC;FMTTYPE=text/html:<p>\n	<font size="2">Come to FIRSTfriday of Falls Church and join the fun. This month highlights include artists Jola Noska<span _fck_bookmark="1" style="display: none"> </span><font face="Arial\, Helvetica\, sans-serif">\, Carol Sargeant<span _fck_bookmark="1" style="display: none"> </span>\, Mimi Betz<span _fck_bookmark="1" style="display: none"> </span>\, <span _fck_bookmark="1" style="display: none">Marina Troy\, MMMMMMMavvv</span>Christine Miller<span _fck_bookmark="1" style="display: none"> </span></font></font><font face="Arial\, Helvetica\, sans-serif"><font size="2">\, </font></font><font face="Arial\, Helvetica\, sans-serif" size="2">Bill Abel. <font size="2">FREE Famous Dave&#39\;s Legendary Pit Bar-B-Que give away sample of there award winning ribs at the ArtALot event. </font>Band performance by Doug Parks and the Lone Wolves<span _fck_bookmark="1" style="display: none"> </span>at ArtALot along with additional artists and showcasing classic car Cruise-In Friday.<span _fck_bookmark="1" style="display: none"> </span>Musical performances also at Ireland&#39\;s Four Provinces\, Dogwood Tavern\, and Clare and Don&#39\;s.&nbsp\;<span _fck_bookmark="1" style="display: none">&nbsp\;</span></font><br />\n	<br />\n	For a complete listing of events and participating businesses\, visit <a href="http://www.firstfridayoffallschurch.com">www.firstfridayoffallschurch.com</a></p>\n
LOCATION:Art Events: At Art and Frame of Falls Church - 703-534-4202\, 111 Park Ave.\, 6-8 pm\, www.artandframeoffallschurch.com Art exhibition entitled "Close to Nature" with Jola Noska\, showcasing works in acrylic\, pastels\, and leather. Artist talk at 7:10 pm. Open Studio Night with Marina Troy and Christine Miller. Open Studio Night viewing watercolorist Bill Abel in action at Park Avenue Gallery Studios\, WhereArtHappens.com. FREE ice cream provided by Lazy Sundae. At ArtALot - 703-534-4202\, 111 Park Ave.\, 5-8 pm\, www.firstfridayoffallschurch.com FREE Famous Dave's Legendary Pit Bar-B-Que at the ArtALot event. Coming soon at 370 West Broad Street\, Famous Dave's is giving away a sample of there award winning ribs while you view the classic cars\, shop for artwork\, and listen to music. Cruise-In Friday sponsored by Don Beyer Volvo - America's Favorite Volvo Dealer. No entry fee. Dash plaques and T-Shirts for the first 20 that show. Trophy for top three finishers. Musical Stage Sponsorship by Tori McKinney - Your "Green" Realtor ... Offering "Rock Star" Service providing the musical performance of Doug Parks and the Lone Wolves . Art exhibits featuring various painters\, jewelrist\, and other artists such as Mary Benzinger of Virginia Fine Writing Instruments\, Sharon Judge\, Allison Lange\, Damien Hartl\, Falls Church Arts\, and Creative Cauldron. DOGGIE YAPPIE HOUR". Always There Pet Care hosting\, 703-237-5522\, alwaystherepetcare.com.
UID:e.1250.5
SEQUENCE:3
DTSTAMP:20260423T032647Z
URL:https://business.fallschurchchamber.org/events/details/firstfriday-of-falls-church-08-05-2011-5
END:VEVENT

END:VCALENDAR
