BEGIN:VCALENDAR
VERSION:2.0
PRODID:-//ChamberMaster//Event Calendar 2.0//EN
METHOD:PUBLISH
X-PUBLISHED-TTL:P3D
REFRESH-INTERVAL:P3D
CALSCALE:GREGORIAN
BEGIN:VEVENT
DTSTART;VALUE=DATE:20110902
DTEND;VALUE=DATE:20110903
TRANSP:TRANSPARENT
X-MICROSOFT-CDO-ALLDAYEVENT:TRUE
SUMMARY:FIRSTfriday of Falls Church
DESCRIPTION:Be sure to check out the art exhibits & receptions (hosted by Art and Frame of FC\, Fall Properties\, and Stifel & Capra)\, classic cars (sponsored by Don Beyer Volvo)\, live music at ArtALot (sponsored by Tori McKinney\, "Your Green Realtor Offering Rock Star Service") and at Dogwood Tavern\, Ireland's 4Ps)\, pottery painting & glass fusion (Clay Cafe)\, doggie happy hour (sponsored by Always There Pet Care)\, beer tastings (at Red White & Bleu)\, yoga for charity (at Sacred Well)\,    \n\n	lunch and other specials (Clare & Don's Beach Shack\, Ireland's 4Ps\, Mad Fox Brewing Co. and others) and everything else that is going on Friday\, Sept. 2nd around The Little City. www.firstfridayoffallschurch.com.
X-ALT-DESC;FMTTYPE=text/html:<font face="Arial">Be sure to check out the art exhibits &amp\; receptions (hosted by <strong>Art and Frame of FC\, Fall Properties</strong>\, and <strong>Stifel &amp\; Capra</strong>)\, classic cars (sponsored by <strong>Don Beyer Volvo</strong>)\, live music at ArtALot (sponsored by <strong>Tori McKinney</strong>\, &quot\;Your Green Realtor Offering Rock Star Service&quot\;) and at <strong>Dogwood Tavern\, Ireland&#39\;s 4Ps</strong>)\, pottery painting &amp\; glass fusion (<strong>Clay Cafe</strong>)\, doggie happy hour (sponsored by <strong>Always There Pet Care</strong>)\, beer tastings (at <strong>Red White &amp\; Bleu</strong>)\, yoga for charity (at <strong>Sacred Well</strong>)\,&nbsp\; <strong>&nbsp\;</strong>&nbsp\;</font>\n<p style="margin-top: 0px\; margin-bottom: 0px">\n	<span style="font-family: arial">lunch and other specials&nbsp\;(<strong>Clare &amp\; Don&#39\;s Beach Shack\, Ireland&#39\;s 4Ps\, </strong><strong>Mad Fox Brewing Co</strong>. and others) and everything else that is&nbsp\;going on <em><strong>Friday\, Sept. 2nd</strong></em> around The Little City. </span><a href="http://r20.rs6.net/tn.jsp?llr=mkmuencab&amp\;et=1107389157990&amp\;s=0&amp\;e=001Ej_ws-m7M_EqxEzzvir52ZVie7RioRlIqAulllNvZevCqOOlDQVgWsemivjF0v5lwfBQ-3f__RrMuFTpVlFAmTq-vhH0tF4k7hrjhvHY5E0zLfbUoxxRVw==" shape="rect" target="_blank"><span style="font-family: arial"><font color="#348900">www.firstfridayoffallschurch.com</font></span></a><span style="font-family: arial">.<span _fck_bookmark="1" style="display: none">&nbsp\;</span></span></p>\n
LOCATION:
UID:e.1250.17
SEQUENCE:3
DTSTAMP:20260423T044812Z
URL:https://business.fallschurchchamber.org/events/details/firstfriday-of-falls-church-09-02-2011-17
END:VEVENT

END:VCALENDAR
