BEGIN:VCALENDAR
VERSION:2.0
PRODID:-//ChamberMaster//Event Calendar 2.0//EN
METHOD:PUBLISH
X-PUBLISHED-TTL:P3D
REFRESH-INTERVAL:P3D
CALSCALE:GREGORIAN
BEGIN:VEVENT
DTSTART;VALUE=DATE:20111202
DTEND;VALUE=DATE:20111203
TRANSP:TRANSPARENT
X-MICROSOFT-CDO-ALLDAYEVENT:TRUE
SUMMARY:FIRSTfriday of Falls Church
DESCRIPTION:On Friday December 2\, FIRSTfriday of Falls Church at Art and Frame of Falls Church will be holding its 2nd Annual Holiday Show\, and you are invited to take part!  The Holiday Show will open on December 1st and run through December 27th with the Opening Reception on FIRSTfriday!
X-ALT-DESC;FMTTYPE=text/html:On Friday December 2\, FIRSTfriday of Falls Church at Art and Frame of Falls Church will be holding its 2nd Annual Holiday Show\, and you are invited to take part!&nbsp\; The Holiday Show will open on December 1st and run through December 27th with the Opening Reception on FIRSTfriday!<span _fck_bookmark="1" style="display: none">&nbsp\;</span>
LOCATION:visit www.firstfridayoffallschurch.com for a complete listing of activities and specials.
UID:e.1250.176
SEQUENCE:3
DTSTAMP:20260423T083842Z
URL:https://business.fallschurchchamber.org/events/details/firstfriday-of-falls-church-12-02-2011-176
END:VEVENT

END:VCALENDAR
