BEGIN:VCALENDAR
VERSION:2.0
PRODID:-//ChamberMaster//Event Calendar 2.0//EN
METHOD:PUBLISH
X-PUBLISHED-TTL:P3D
REFRESH-INTERVAL:P3D
CALSCALE:GREGORIAN
BEGIN:VEVENT
DTSTART:20250823T120000Z
DTEND:20250823T130000Z
X-MICROSOFT-CDO-ALLDAYEVENT:FALSE
SUMMARY:Fit and Functional Bootcamp
DESCRIPTION:Get ready to sweat in this all-levels bootcamp that combines cardio\, strength training and functional movements for a full-body workout.  Designed to improve strength\, agility\, balance and overall fitness\, this class keeps you moving\, challenging yourself\, and feeling accomplished every step of the way.
X-ALT-DESC;FMTTYPE=text/html:<span style="font-family:arial\,helvetica\,sans-serif"><span style="font-size:12px"><span style="color:rgb(85\, 85\, 85)">Get ready to sweat in this all-levels bootcamp that combines cardio\, strength training and functional movements for a full-body workout.&nbsp\; Designed to improve strength\, agility\, balance and overall fitness\, this class keeps you moving\, challenging yourself\, and feeling accomplished every step of the way.</span></span></span>
LOCATION:
UID:e.1250.81270
SEQUENCE:3
DTSTAMP:20260420T102211Z
URL:https://business.fallschurchchamber.org/events/details/fit-and-functional-bootcamp-08-23-2025-81270
END:VEVENT

END:VCALENDAR
