BEGIN:VCALENDAR
VERSION:2.0
PRODID:-//ChamberMaster//Event Calendar 2.0//EN
METHOD:PUBLISH
X-PUBLISHED-TTL:P3D
REFRESH-INTERVAL:P3D
CALSCALE:GREGORIAN
BEGIN:VEVENT
DTSTART:20110817T200000Z
DTEND:20110818T010000Z
X-MICROSOFT-CDO-ALLDAYEVENT:FALSE
SUMMARY:Flippin' for Crosslink
DESCRIPTION:Flippin' Pizza will donate 50% of sales to Crosslink International from 4-9pm on Wed. August 17.\n\n\n\nYou must have a flyer to earn the credit.  email laurenh@crosslinkinternational.net for a copy.
X-ALT-DESC;FMTTYPE=text/html:Flippin&#39\; Pizza will donate 50% of sales to Crosslink International from 4-9pm on Wed. August 17.<br />\n<br />\nYou must have a flyer to earn the credit.&nbsp\; email <a href="mailto:laurenh@crosslinkinternational.net">laurenh@crosslinkinternational.net</a> for a copy.<br />\n<br />\n
LOCATION:Flippin' Pizza 800 W. Broad St. Falls Church
UID:e.1250.8
SEQUENCE:3
DTSTAMP:20260423T032540Z
URL:https://business.fallschurchchamber.org/events/details/flippin-for-crosslink-08-17-2011-8
END:VEVENT

END:VCALENDAR
