BEGIN:VCALENDAR
VERSION:2.0
PRODID:-//ChamberMaster//Event Calendar 2.0//EN
METHOD:PUBLISH
X-PUBLISHED-TTL:P3D
REFRESH-INTERVAL:P3D
CALSCALE:GREGORIAN
BEGIN:VEVENT
DTSTART:20120303T150000Z
DTEND:20120303T220000Z
X-MICROSOFT-CDO-ALLDAYEVENT:FALSE
SUMMARY:Folk Couture Trunk Show at Stifel & Capra
DESCRIPTION:Stifel & Capra welcomes Grace Napoleon of Folk Couture\, from Connecticut\, who makes upcycled clothes out of . clothes! Grace will be presenting her new spring line for the first time at Stifel & Capra. Free\, open to the public.
X-ALT-DESC;FMTTYPE=text/html:<p style="margin:0in\;margin-bottom:.0001pt\;background:white">\n	<span style="font-size:11.0pt\;font-family:" trebuchet="">&nbsp\;</span></p>\n<p style="margin:0in\;margin-bottom:.0001pt\;background:white">\n	&nbsp\;</p>\n<p style="margin:0in\;margin-bottom:.0001pt\;background:white">\n	<span style="font-size:11.0pt\;font-family:" trebuchet="">Stifel &amp\; Capra welcomes Grace Napoleon of Folk Couture\, from Connecticut\, who makes upcycled clothes out of&hellip\;. clothes! Grace will be presenting her new spring line for the first time at Stifel &amp\; Capra. Free\, open to the public.&nbsp\;</span></p>\n
LOCATION:Stifel & Capra\, 260 West Broad Street Falls Church\, VA 22046
UID:e.1250.215
SEQUENCE:3
DTSTAMP:20260425T134747Z
URL:https://business.fallschurchchamber.org/events/details/folk-couture-trunk-show-at-stifel-capra-03-03-2012-215
END:VEVENT

END:VCALENDAR
