BEGIN:VCALENDAR
VERSION:2.0
PRODID:-//ChamberMaster//Event Calendar 2.0//EN
METHOD:PUBLISH
X-PUBLISHED-TTL:P3D
REFRESH-INTERVAL:P3D
CALSCALE:GREGORIAN
BEGIN:VEVENT
DTSTART:20121027T140000Z
DTEND:20121027T160000Z
X-MICROSOFT-CDO-ALLDAYEVENT:FALSE
SUMMARY:For Seniors - Meet the ExpertsDay
DESCRIPTION:Come join the Northern Virginia Alliance of Professional Services for Seniors when they present Meet the Experts Day. This organization is made up of highly competent and trustworthy individuals who specialize in providing services for seniors and their families. Bring your questions\, explore your options\, and meet with the experts in a casual setting at the offices of Fall Properties in Falls Church City.\n\n\n\nExperts available on Saturday will include: Andreas Keller (Reverse Mortgages)\, Everett Yore (Health & Medicare insurances)\, John Rodock (Estate planning & elder law)\, Moira Quinn (Senior design & transition specialist)\, Pat O'Neill (Long term care insurance)\, Phil Traina (Infection control specialist)\, Rick Gow (Wealth management advisor)\, Stanley Dubiel (Non-medical companionship & home care)\, and Wendy Payne (Life stage transitions).
X-ALT-DESC;FMTTYPE=text/html:Come join the Northern Virginia Alliance of Professional Services for Seniors when they present Meet the Experts Day. This organization is made up of highly competent and trustworthy individuals who specialize in providing services for seniors and their families. Bring your questions\, explore your options\, and meet with the experts in a casual setting at the offices of Fall Properties in Falls Church City.<br />\n<br />\nExperts available on Saturday will include: Andreas Keller (Reverse Mortgages)\, Everett Yore (Health &amp\; Medicare insurances)\, John Rodock (Estate planning&nbsp\;&amp\; elder law)\, Moira Quinn (Senior design &amp\; transition specialist)\, Pat O&#39\;Neill (Long term care insurance)\, Phil Traina (Infection control specialist)\, Rick Gow (Wealth management advisor)\, Stanley Dubiel (Non-medical companionship &amp\; home care)\, and Wendy Payne (Life stage transitions).
LOCATION:Fall Properties offices\, 212-A N. West Street\, Falls Church City (facing the W&OD Trail)
UID:e.1250.383
SEQUENCE:3
DTSTAMP:20260426T012542Z
URL:https://business.fallschurchchamber.org/events/details/for-seniors-meet-the-expertsday-10-27-2012-383
END:VEVENT

END:VCALENDAR
