BEGIN:VCALENDAR
VERSION:2.0
PRODID:-//ChamberMaster//Event Calendar 2.0//EN
METHOD:PUBLISH
X-PUBLISHED-TTL:P3D
REFRESH-INTERVAL:P3D
CALSCALE:GREGORIAN
BEGIN:VEVENT
DTSTART:20120723T223000Z
DTEND:20120723T233000Z
X-MICROSOFT-CDO-ALLDAYEVENT:FALSE
SUMMARY:FREE battle Ropes intro. class at Vantage Fitness
DESCRIPTION:Looking to change up your cardio routine? Or maybe something to add to your workout for maximum calorie burn? No matter what you are trying to accomplish by being at the gym\, battle ropes can help elevate your workouts to a whole new level.\n\n	Cost: FREE\n\n	Date: Monday\, July 23\n\n	Time: 6:30 pm\n\n	Instructor: Brian Samson
X-ALT-DESC;FMTTYPE=text/html:<div style="color: gray">\n	<span style="font-size: 28pt"><span style="font-family: calibri">Looking to change up your cardio routine? Or maybe something to add to your workout for maximum calorie burn? No matter what you are trying to accomplish by being at the gym\, battle ropes can help elevate your workouts to a whole new level.</span></span><br />\n	<span style="font-size: 36pt"><span style="font-family: consolas">Cost: FREE</span></span><br />\n	<span style="font-size: 36pt"><span style="font-family: consolas">Date: Monday\, July 23</span></span><br />\n	<span style="font-size: 36pt"><span style="font-family: consolas">Time: 6:30 pm</span></span><br />\n	<span style="font-size: 36pt"><span style="font-family: consolas">Instructor: Brian Samson</span></span></div>\n
LOCATION:Vantage Fitness 402 W. Broad St. Falls Church\, VA 22046
UID:e.1250.305
SEQUENCE:3
DTSTAMP:20260425T202549Z
URL:https://business.fallschurchchamber.org/events/details/free-battle-ropes-intro-class-at-vantage-fitness-07-23-2012-305
END:VEVENT

END:VCALENDAR
