BEGIN:VCALENDAR
VERSION:2.0
PRODID:-//ChamberMaster//Event Calendar 2.0//EN
METHOD:PUBLISH
X-PUBLISHED-TTL:P3D
REFRESH-INTERVAL:P3D
CALSCALE:GREGORIAN
BEGIN:VEVENT
DTSTART:20121020T130000Z
DTEND:20121020T160000Z
X-MICROSOFT-CDO-ALLDAYEVENT:FALSE
SUMMARY:FREE Community Shred-it Event
DESCRIPTION:Virginia Commerce Bank is going green and welcomes you to participate in purging your paper. Learn how you can minimize your paper trail by signing up for eStatements.
X-ALT-DESC;FMTTYPE=text/html:Virginia Commerce Bank is going green and welcomes you to participate in purging your paper. Learn how you can minimize your paper trail by signing up for eStatements.
LOCATION:Virginia Commerce Bank- Falls Church Branch 7115 Leesburg Pike\, Ste 101 Falls Church\, VA 22043
UID:e.1250.332
SEQUENCE:3
DTSTAMP:20260426T012329Z
URL:https://business.fallschurchchamber.org/events/details/free-community-shred-it-event-10-20-2012-332
END:VEVENT

END:VCALENDAR
