BEGIN:VCALENDAR
VERSION:2.0
PRODID:-//ChamberMaster//Event Calendar 2.0//EN
METHOD:PUBLISH
X-PUBLISHED-TTL:P3D
REFRESH-INTERVAL:P3D
CALSCALE:GREGORIAN
BEGIN:VEVENT
DTSTART:20120721T120000Z
DTEND:20120721T180000Z
X-MICROSOFT-CDO-ALLDAYEVENT:FALSE
SUMMARY:Free Kids Pancakes at Bentley's
DESCRIPTION:At Bentley's Restaurant summer belongs to the kids!\n\n\n\nCome to Bentley's from 8 am - 2 pm July 21 and kids 10 and under receive children's pancakes with each adult meal purchased!\n\n\n\nGather the family and join us this Saturday!
X-ALT-DESC;FMTTYPE=text/html:At Bentley&#39\;s Restaurant summer belongs to the kids!<br />\n<br />\nCome to Bentley&#39\;s from 8 am - 2 pm July 21 and kids 10 and under receive children&#39\;s pancakes with each adult meal purchased!<br />\n<br />\nGather the family and join us this Saturday!
LOCATION:Bentley's Restaurant 6654 Arlington Blvd. Falls Church
UID:e.1250.312
SEQUENCE:3
DTSTAMP:20260425T202235Z
URL:https://business.fallschurchchamber.org/events/details/free-kids-pancakes-at-bentley-s-07-21-2012-312
END:VEVENT

END:VCALENDAR
