BEGIN:VCALENDAR
VERSION:2.0
PRODID:-//ChamberMaster//Event Calendar 2.0//EN
METHOD:PUBLISH
X-PUBLISHED-TTL:P3D
REFRESH-INTERVAL:P3D
CALSCALE:GREGORIAN
BEGIN:VEVENT
DTSTART:20250820T040000Z
DTEND:20250820T200000Z
X-MICROSOFT-CDO-ALLDAYEVENT:FALSE
SUMMARY:Free Rare Books Appraisal Day
DESCRIPTION:Free Rare Books Appraisal Day\n\n\n\nCurious about the value of the books in your home? Do you have rare books you are interested in consigning? Sign up at the link below to make an appointment with our specialists!\n\nThere will be staff on hand to assist you if you choose to consign on the spot!\n\n\n\n5 item limit per appointment.\n\nMore than 5 pieces? Contact us to schedule a longer appointment!\n\n\n\nIf the time slots shown don't work for you\, please email us at info@quinnsauction.com to schedule an alternate appointment.\n\n\n\nSIGN UP HERE!
X-ALT-DESC;FMTTYPE=text/html:<p><a href="https://www.signupgenius.com/go/30E044EAFAC2BA3F94-57778695-jewelry#/" style="box-sizing: border-box\; transition: 0.5s\; background-color: transparent\; color: rgb(0\, 0\, 0)\; text-decoration-line: none\; user-select: auto\;"><span style="font-size:18px"><strong>Free Rare Books Appraisal Day</strong></span></a><br />\n<br />\n<span style="font-size:14px">Curious about the value of the books in your home? Do you have rare books you are interested in consigning? Sign up at the link below to make an appointment with our specialists!</span></p>\n\n<p><span style="font-size:14px"><span style="font-family:helvetica">There will be staff on hand to assist you if you choose to consign on the spot!</span><br />\n<br />\n<span style="font-family:helvetica">5 item limit per appointment.</span><br />\n<span style="font-family:helvetica">More than 5 pieces? Contact us to schedule a longer appointment!</span><br />\n<br />\n<span style="font-family:helvetica">If the time slots&nbsp\;shown don&rsquo\;t work for you\, please email us at info@quinnsauction.com&nbsp\;</span><span style="font-family:helvetica">to schedule an alternate appointment.</span><br />\n<br />\n<a href="https://www.signupgenius.com/go/30E044EAFAC2BA3F94-57778695-jewelry#/"><span style="font-size:20px">SIGN UP HERE!</span></a></span></p>\n
LOCATION:Quinn's Auction Galleries 360 S. Washington St Falls Church\, VA 22046
UID:e.1250.81308
SEQUENCE:3
DTSTAMP:20260420T103125Z
URL:https://business.fallschurchchamber.org/events/details/free-rare-books-appraisal-day-08-20-2025-81308
END:VEVENT

END:VCALENDAR
