BEGIN:VCALENDAR
VERSION:2.0
PRODID:-//ChamberMaster//Event Calendar 2.0//EN
METHOD:PUBLISH
X-PUBLISHED-TTL:P3D
REFRESH-INTERVAL:P3D
CALSCALE:GREGORIAN
BEGIN:VEVENT
DTSTART:20121028T163000Z
DTEND:20121028T190000Z
X-MICROSOFT-CDO-ALLDAYEVENT:FALSE
SUMMARY:Fun\, Prizes and Frightful Bowling with NOVAM 10/28
DESCRIPTION:Pumpkins\, Goblins and Bowling ... Oh My! \n\n	NOVAM's first-ever\n\n	\n\n	Frightful Bowling!\n\n	\n\n	Fear not -- NOVAM friends\, volunteers\, and staff will be there to share the thrills!\n\n	\n\n	Score points for yourself and raise money for NOVAM's premier HIV prevention and education programs and compassionate client services in Northern Virginia.\n\n	\n\n	Use this link for more information and to sign up: \n\n	http://bit.ly/FrightfulBowling\n\n	\n\n	Here's what to do:\n\n	\n\n	1. Round up a team of 6. \n\n	        If you can't find 5 teammates\, don't let that stop you. We'll invite you to join a team of other individuals!\n\n	\n\n	2. Raise money\, not candy!\n\n	21 or younger - raise/donate at least $25.\n\n	Over 21 - raise/donate at least $50.\n\n	Don't be scared... Raise more!\n\n	\n\n	3. Ask family\, friends\, co-workers\, or Dracula to sponsor you\, even for a few dollars.\n\n	\n\n	4. Collect sponsors' names and funds raised (cash\, checks) by using the team sponsor sheets.\n\n	\n\n	5. Planning to bowl\, email mkarstens@novam.org or call 703-533-5505 ext 13 and let Mary know for a headcount and turn in your Registration and Team Forms by Monday\, October 22 (via Email or Fax)!\n\n	\n\n	All donations are tax-deductible.\n\n	Make a team name!\n\n	Give your team a costume theme!\n\n	Feel good while doing good and having fun!\n\n	 \n\n	Want to SPONSOR the Bowling Extravaganza?\n\n	Sponsorship Opportunities are available to help NOVAM underwrite the costs of the Bowling Extravaganza. Please see the sponsorship form for more information or contact Mary Karstens (mkarstens@novam.org or 703.533.5505\, x13). \n\n	 \n\n	There will be frightening door prizes\,\n\n	costume contest\, and a 50/50 drawing!\n\n	\n\n	All bowlers receive two hours unlimited bowling and shoe rental!
X-ALT-DESC;FMTTYPE=text/html:<p style="text-align: center">\n	<span style="color: #ff0000"><span style="font-size: 14px"><strong><span style="font-family: verdana">Pumpkins\, Goblins and Bowling ... Oh My! </span></strong></span></span></p>\n<p style="text-align: center">\n	<span style="color: #ff0000"><strong><span style="font-size: 12px"><span style="font-family: verdana"><span style="font-size: 14px">NOVAM&#39\;s first-ever</span><br />\n	<br />\n	<span style="font-size: 16px">Frightful Bowling!</span></span></span></strong></span></p>\n<p>\n	<br />\n	<span style="font-size: 12px"><span style="font-family: verdana">Fear not -- NOVAM friends\, volunteers\, and staff will be there to share the thrills!<br />\n	<br />\n	Score points for yourself and raise money for NOVAM&#39\;s premier HIV prevention and education programs and compassionate client services in Northern Virginia.</span><br />\n	<br />\n	<span style="color: #ff0000"><strong><span style="font-size: 16px">Use this link for more information and to sign up:&nbsp\;</span></strong></span></span><br />\n	<span style="color: #ff0000"><strong><span style="font-size: 16px">http://bit.ly/FrightfulBowling</span></strong></span><br />\n	<br />\n	<span style="font-size: 12px"><span style="font-family: verdana">Here&#39\;s what to do:<br />\n	<br />\n	1. Round up a team of 6. </span></span><br />\n	&nbsp\; &nbsp\; &nbsp\; &nbsp\;&nbsp\;<span style="font-size: 12px"><span style="font-family: verdana">If you can&#39\;t find 5 teammates\, don&#39\;t let that stop you.&nbsp\;</span></span><span style="font-family: verdana">We&#39\;ll invite you to join a team of other individuals!</span></p>\n<p>\n	<br />\n	<span style="font-size: 12px"><span style="font-family: verdana">2. Raise money\, not candy!<br />\n	21 or younger - raise/donate at least $25.<br />\n	Over 21 - raise/donate at least $50.<br />\n	Don&#39\;t be scared... Raise more!<br />\n	<br />\n	3. Ask family\, friends\, co-workers\, or Dracula to sponsor you\, even for a few dollars.<br />\n	<br />\n	4. Collect sponsors&#39\; names and funds raised (cash\, checks) by using the team sponsor sheets.<br />\n	<br />\n	5. Planning to bowl\, email mkarstens@novam.org or call 703-533-5505 ext 13 and let Mary know for a headcount and turn in your Registration and Team Forms by Monday\, October 22 (via Email or Fax)!<br />\n	<br />\n	All donations are tax-deductible.</span></span></p>\n<p style="text-align: center">\n	<span style="font-size: 16px"><span style="font-family: verdana"><strong>Make a team name!<br />\n	Give your team a costume theme!<br />\n	Feel good while doing good and having fun!</strong></span></span><br />\n	&nbsp\;</p>\n<p>\n	<strong><span style="font-size: 14px"><span style="font-family: verdana">Want to SPONSOR the Bowling Extravaganza?</span></span></strong></p>\n<p>\n	<span style="font-size: 11px"><strong><span style="font-family: verdana">Sponsorship Opportunities are available to help NOVAM underwrite the costs of the Bowling Extravaganza. Please see the sponsorship form for more information or contact Mary Karstens (mkarstens@novam.org or 703.533.5505\, x13).&nbsp\;</span></strong></span><br />\n	&nbsp\;</p>\n<p style="text-align: center">\n	<span style="color: #ff0000"><strong><span style="font-size: 14px"><span style="font-family: verdana">There will be frightening&nbsp\;door prizes\,<br />\n	costume contest\, and a 50/50 drawing!<br />\n	<br />\n	All bowlers receive two hours unlimited bowling&nbsp\;</span></span></strong></span><strong style="color: rgb(255\,0\,0)"><span style="font-size: 14px"><span style="font-family: verdana">and shoe rental! &nbsp\;</span></span></strong></p>\n
LOCATION:AMF Annandale Lanes 4245 Markham St Annandale\, VA
UID:e.1250.365
SEQUENCE:3
DTSTAMP:20260426T012901Z
URL:https://business.fallschurchchamber.org/events/details/fun-prizes-and-frightful-bowling-with-novam-10-28-10-28-2012-365
END:VEVENT

END:VCALENDAR
