BEGIN:VCALENDAR
VERSION:2.0
PRODID:-//ChamberMaster//Event Calendar 2.0//EN
METHOD:PUBLISH
X-PUBLISHED-TTL:P3D
REFRESH-INTERVAL:P3D
CALSCALE:GREGORIAN
BEGIN:VEVENT
DTSTART:20110816T153000Z
DTEND:20110817T030000Z
X-MICROSOFT-CDO-ALLDAYEVENT:FALSE
SUMMARY:Fundraiser for Avon Walk for Breast Cancer
DESCRIPTION:Dogfish Head Alehouse will be donating 15% of all proceeds on August 16 to Avon's Walk for Breast Cancer.
X-ALT-DESC;FMTTYPE=text/html:Dogfish Head Alehouse will be donating 15% of all proceeds on August 16 to Avon&#39\;s Walk for Breast Cancer.&nbsp\; 
LOCATION:Dogfish Head Alehouse 6220 Leesburg Pike\, Falls Church
UID:e.1250.4
SEQUENCE:3
DTSTAMP:20260423T032648Z
URL:https://business.fallschurchchamber.org/events/details/fundraiser-for-avon-walk-for-breast-cancer-08-16-2011-4
END:VEVENT

END:VCALENDAR
