BEGIN:VCALENDAR
VERSION:2.0
PRODID:-//ChamberMaster//Event Calendar 2.0//EN
METHOD:PUBLISH
X-PUBLISHED-TTL:P3D
REFRESH-INTERVAL:P3D
CALSCALE:GREGORIAN
BEGIN:VEVENT
DTSTART:20111020T153000Z
DTEND:20111020T170000Z
X-MICROSOFT-CDO-ALLDAYEVENT:FALSE
SUMMARY:GMBA Luncheon
DESCRIPTION:The October GMBA luncheon will be held October 20\, 2011 Luncheon @ 11:30 a.m.\n\n	\n\n	Supervisor Linda Smyth & Republican opponent Chris Grisafe will be our featured speakers. \n\n	\n\n	The location will be at Original Pancake House 7395 Lee Highway\, Falls Church\, VA 22042.  Please RSVP and reserve your spot today!\n\n	\n		 \n	\n		Nikki Doremus\n	\n		GMBA\n	\n		(703) 208-1161
X-ALT-DESC;FMTTYPE=text/html:<div align="left" dir="ltr">\n	<span style="font-size: 14px"><span class="258294714-30092011">The October GMBA luncheon will be&nbsp\;<span class="866554518-05102011">held</span> October 20\, 2011 Luncheon @ 11:30 a.m.<br />\n	<br />\n	Supervisor Linda Smyth &amp\; Republican opponent Chris Grisafe<span class="866554518-05102011"> will be our featured speakers.&nbsp\;<br />\n	<br />\n	The location will be </span>at Original Pancake House<span class="866554518-05102011"> 7395 Lee Highway\, Falls Church\, VA 22042.&nbsp\; Please RSVP and reserve your spot today!</span></span></span></div>\n<div>\n	<div align="left" dir="ltr">\n		<span style="font-size: 14px">&nbsp\;</span></div>\n	<div align="left" dir="ltr">\n		<span style="font-size: 14px"><span class="258294714-30092011"><span class="866554518-05102011">Nikki Doremus</span></span></span></div>\n	<div align="left" dir="ltr">\n		<span style="font-size: 14px"><span class="258294714-30092011"><span class="866554518-05102011">GMBA</span></span></span></div>\n	<div align="left" dir="ltr">\n		<span style="font-size: 14px"><span class="258294714-30092011"><span class="866554518-05102011">(703) 208-1161</span></span></span></div>\n</div>\n<div>\n	&nbsp\;</div>\n<div>\n	&nbsp\;<span _fck_bookmark="1" style="display: none">&nbsp\;</span></div>\n
LOCATION:Original Pancake House 7395 Lee Highway\, Falls Church\, VA 22042.
UID:e.1250.163
SEQUENCE:3
DTSTAMP:20260423T055319Z
URL:https://business.fallschurchchamber.org/events/details/gmba-luncheon-10-20-2011-163
END:VEVENT

END:VCALENDAR
