BEGIN:VCALENDAR
VERSION:2.0
PRODID:-//ChamberMaster//Event Calendar 2.0//EN
METHOD:PUBLISH
X-PUBLISHED-TTL:P3D
REFRESH-INTERVAL:P3D
CALSCALE:GREGORIAN
BEGIN:VEVENT
DTSTART:20120525T220000Z
DTEND:20120526T010000Z
X-MICROSOFT-CDO-ALLDAYEVENT:FALSE
SUMMARY:GMHS Festival of Hope
DESCRIPTION:Start Memorial Day weekend at A Festival of Hope: live music by GMHS student musicians\, carnival games\, face-painting and fun for the whole family. H.O.P.E. (Helping Others Procure and Education) is a George Mason HS Club that works with the Arlington Academy of HOPE in Uganda. Free festival\, with raffle prizes and other fundraisers. Stop in at a nearby restaurant for dinner. \n\n	You'll learn about the mission of Arlington Academy of Hope\, and have fun with family and friends.\n\n	 \n\n	May 25th 6:00 pm   9:00 pm in the Spectrum Park (Between Panera & Mad Fox). This is the first time the park has been used for an outdoor event like this. Come and check it out! Check out FCCPS on Facebook for updates on bands and events.Click here to edit...
X-ALT-DESC;FMTTYPE=text/html:<div style="color: gray">\n	<span style="font-size: medium"><span style="font-family: calibri"><strong>Start Memorial Day weekend at A Festival of Hope</strong>: live music by GMHS student musicians\, carnival games\, face-painting and fun for the whole family. H.O.P.E. (Helping Others Procure and Education) is a George Mason HS Club that works with the Arlington Academy of HOPE in Uganda. Free festival\, with raffle prizes and other fundraisers. Stop in at a nearby restaurant for dinner. </span></span><br />\n	<span style="font-size: medium"><span style="font-family: calibri">You&rsquo\;ll learn about the mission of Arlington Academy of Hope\, and have fun with family and friends.</span></span><br />\n	&nbsp\;<br />\n	<span style="font-size: 11pt"><span style="font-family: calibri\, sans-serif"><span style="font-family: calibri">May 25<sup>th</sup> 6:00 pm &ndash\; 9:00 pm in the Spectrum Park (Between Panera &amp\; Mad Fox). This is the first time the park has been used for an outdoor event like this. Come and check it out! Check out FCCPS on Facebook for updates on bands and events.</span></span></span>Click here to edit...</div>\n
LOCATION:Spectrum Park Between Panera & Mad Fox on Broad St. in Falls Church
UID:e.1250.265
SEQUENCE:3
DTSTAMP:20260425T165403Z
URL:https://business.fallschurchchamber.org/events/details/gmhs-festival-of-hope-05-25-2012-265
END:VEVENT

END:VCALENDAR
