BEGIN:VCALENDAR
VERSION:2.0
PRODID:-//ChamberMaster//Event Calendar 2.0//EN
METHOD:PUBLISH
X-PUBLISHED-TTL:P3D
REFRESH-INTERVAL:P3D
CALSCALE:GREGORIAN
BEGIN:VEVENT
DTSTART:20120414T130000Z
DTEND:20120414T170000Z
X-MICROSOFT-CDO-ALLDAYEVENT:FALSE
SUMMARY:Grand Opening Party at Always There Pet Care Cat Resort
DESCRIPTION:We moved to this location in December and we are now ready to let loose and celebrate our new location.  Come out and see our kitty condo resort and grab a bite to eat while having a great time.
X-ALT-DESC;FMTTYPE=text/html:<p style="text-align: center">\n	We moved to this location in December and we are now ready to let loose and celebrate our new location.&nbsp\; Come out and see our kitty condo resort and grab a bite to eat while having a great time.</p>\n
LOCATION:920 C West Broad St. Falls Church\, Va 22046
UID:e.1250.242
SEQUENCE:3
DTSTAMP:20260425T152125Z
URL:https://business.fallschurchchamber.org/events/details/grand-opening-party-at-always-there-pet-care-cat-resort-04-14-2012-242
END:VEVENT

END:VCALENDAR
