BEGIN:VCALENDAR
VERSION:2.0
PRODID:-//ChamberMaster//Event Calendar 2.0//EN
METHOD:PUBLISH
X-PUBLISHED-TTL:P3D
REFRESH-INTERVAL:P3D
CALSCALE:GREGORIAN
BEGIN:VEVENT
DTSTART:20120531T210000Z
DTEND:20120601T000000Z
X-MICROSOFT-CDO-ALLDAYEVENT:FALSE
SUMMARY:Great Lakes Brewing Co Beer Tasting
DESCRIPTION:Free beer tasting featuring Great Lakes Brewing Co. award winning lagers and ales.
X-ALT-DESC;FMTTYPE=text/html:Free beer tasting featuring Great Lakes Brewing Co. award winning lagers and ales.
LOCATION:Red\, White & Bleu 127 S Washington St Falls Church\, VA 22046
UID:e.1250.290
SEQUENCE:3
DTSTAMP:20260425T165159Z
URL:https://business.fallschurchchamber.org/events/details/great-lakes-brewing-co-beer-tasting-05-31-2012-290
END:VEVENT

END:VCALENDAR
