BEGIN:VCALENDAR
VERSION:2.0
PRODID:-//ChamberMaster//Event Calendar 2.0//EN
METHOD:PUBLISH
X-PUBLISHED-TTL:P3D
REFRESH-INTERVAL:P3D
CALSCALE:GREGORIAN
BEGIN:VEVENT
DTSTART:20111001T140000Z
DTEND:20111001T180000Z
X-MICROSOFT-CDO-ALLDAYEVENT:FALSE
SUMMARY:Halloween Paint-In
DESCRIPTION:It is time to pick up paint brushes and conjure up spirits\, goblins and magical pumpkins as the fourth annual Falls Church Halloween Paint-In returns.\n\n	Artists of all ages can sign up to paint a designated Falls Church store window on Oct. 1 and 8 from 10 a.m. - 2 p.m.\, and on Oct. 2 and 9 from 2 - 4 p.m.\n\n	Paints will be supplied by the Falls Church Arts organization\, in partnership with Falls Church Recreation and Parks\, Creative Cauldron\, the Falls Church Chamber of Commerce and the Business in Education Partnership.\n\n	Those interested in registering may send a sketch to Marty Behr via Falls Church Arts\, 412 N. Cherry St.\, Falls Church\, VA 22046 or \n ' )\;\n document.write( addy16908 )\;\n document.write( '' )\;\n //-->\\n behr_marty@yahoo.com \n ' )\;\n //-->\n This e-mail address is being protected from spambots. You need JavaScript enabled to view it. \n ' )\;\n //-->\n .
X-ALT-DESC;FMTTYPE=text/html:<p>\n	It is time to pick up paint brushes and conjure up spirits\, goblins and magical pumpkins as the fourth annual Falls Church Halloween Paint-In returns.</p>\n<p>\n	Artists of all ages can sign up to paint a designated Falls Church store window on Oct. 1 and 8 from 10 a.m. - 2 p.m.\, and on Oct. 2 and 9 from 2 - 4 p.m.</p>\n<p>\n	Paints will be supplied by the Falls Church Arts organization\, in partnership with Falls Church Recreation and Parks\, Creative Cauldron\, the Falls Church Chamber of Commerce and the Business in Education Partnership.</p>\n<p>\n	Those interested in registering may send a sketch to Marty Behr via Falls Church Arts\, 412 N. Cherry St.\, Falls Church\, VA 22046 or <SCRIPT language=JavaScript type=text/javascript>\n <!--\n var prefix = '&#109\;a' + 'i&#108\;' + '&#116\;o'\;\n var path = 'hr' + 'ef' + '='\;\n var addy16908 = 'b&#101\;hr_m&#97\;rty' + '&#64\;'\;\n addy16908 = addy16908 + 'y&#97\;h&#111\;&#111\;' + '&#46\;' + 'c&#111\;m'\;\n document.write( '<a ' + path + '\\'' + prefix + ':' + addy16908 + '\\'>' )\;\n document.write( addy16908 )\;\n document.write( '<\\/a>' )\;\n //-->\\n </SCRIPT><a href="mailto:behr_marty@yahoo.com"><font color="#4161a8">behr_marty@yahoo.com</font></a> <SCRIPT language=JavaScript type=text/javascript>\n <!--\n document.write( '<span style=\\'display: none\;\\'>' )\;\n //-->\n </SCRIPT><span style="display: none">This e-mail address is being protected from spambots. You need JavaScript enabled to view it. <SCRIPT language=JavaScript type=text/javascript>\n <!--\n document.write( '</' )\;\n document.write( 'span>' )\;\n //-->\n </SCRIPT></span>.<span _fck_bookmark="1" style="display: none">&nbsp\;</span></p>\n
LOCATION:Downtown Falls Church
UID:e.1250.30
SEQUENCE:3
DTSTAMP:20260423T055351Z
URL:https://business.fallschurchchamber.org/events/details/halloween-paint-in-10-01-2011-30
END:VEVENT

END:VCALENDAR
