BEGIN:VCALENDAR
VERSION:2.0
PRODID:-//ChamberMaster//Event Calendar 2.0//EN
METHOD:PUBLISH
X-PUBLISHED-TTL:P3D
REFRESH-INTERVAL:P3D
CALSCALE:GREGORIAN
BEGIN:VEVENT
DTSTART:20211007T233000Z
DTEND:20211008T010000Z
X-MICROSOFT-CDO-ALLDAYEVENT:FALSE
SUMMARY:Having Our Say
DESCRIPTION:Having Our Say\, October 7 - 31\, 2021\n\n\n\nPlay by Emily Mann adapted from the book by Sarah L. Delany and Amy L Delany with Amy Hill Hearth\n\nSponsored by Janice Crawford\n\nDirected by Bryanda Minix\n\nStarring Lisa Hill-Corley and Ayesis Clay\n\n\n\nCREATIVE CAULDRON RETURNS TO LIVE THEATER! Follow the real-life centenarian Delany sisters as they welcome you to into their home where they share 100 years of American history recounting fascinating events and anecdotes drawn from their rich family history and careers as pioneering African American professionals.\n\n\n\nPlease note: social distancing between parties\, full masking\, vaccination\, and proof of negative testing is required.
X-ALT-DESC;FMTTYPE=text/html:<em>Having Our Say</em>\, October 7 - 31\, 2021<br />\n<br />\nPlay by Emily Mann adapted from the book by Sarah L. Delany and Amy L Delany with Amy Hill Hearth<br />\nSponsored by Janice Crawford<br />\nDirected by <span style="color:rgb(0\, 0\, 0)">Bryanda Minix<br />\nStarring Lisa Hill-Corley and Ayesis Clay</span><br />\n<br />\nCREATIVE CAULDRON RETURNS TO LIVE THEATER! Follow the real-life centenarian Delany sisters as they welcome you to into their home where they share 100 years of American history recounting fascinating events and anecdotes drawn from their rich family history and careers as pioneering African American professionals.<br />\n<br />\n<em>Please note: social distancing between parties\, full masking\, vaccination\, and proof of negative testing is required.</em>
LOCATION:Creative Cauldron 410 S Maple Ave Falls Church\, VA 22046
UID:e.1250.59242
SEQUENCE:3
DTSTAMP:20260420T102704Z
URL:https://business.fallschurchchamber.org/events/details/having-our-say-59242
END:VEVENT

END:VCALENDAR
