BEGIN:VCALENDAR
VERSION:2.0
PRODID:-//ChamberMaster//Event Calendar 2.0//EN
METHOD:PUBLISH
X-PUBLISHED-TTL:P3D
REFRESH-INTERVAL:P3D
CALSCALE:GREGORIAN
BEGIN:VEVENT
DTSTART:20121117T150000Z
DTEND:20121117T200000Z
X-MICROSOFT-CDO-ALLDAYEVENT:FALSE
SUMMARY:Holiday Art & Gift Market at Stifel & Capra
DESCRIPTION:Looking for a truly one-of-a-kind gift? On Saturday\, November 17th\, from 10:00 am to 3:00 pm\, join us in the parking lot of Stifel & Capra for the Third Annual Holiday Art & Gift Market. More than a dozen very talented artists and crafters will have the perfect gifts for you to choose\, including holiday ornaments and d cor\, artwork and cards\, jewelry\, and vintage goodies\, in addition to all of the wonderful finds inside the shop. We will have plenty of hot apple cider and treats on hand\, to warm your spirit. Join us at Stifel & Capra\, 260 West Broad Street\, Falls Church\, VA 22046.
X-ALT-DESC;FMTTYPE=text/html:Looking for a truly one-of-a-kind gift? On Saturday\, November 17th\, from 10:00 am to 3:00 pm\, join us in the parking lot of Stifel &amp\; Capra for the Third Annual Holiday Art &amp\; Gift Market. More than a dozen very talented artists and crafters will have the perfect gifts for you to choose\, including holiday ornaments and d&eacute\;cor\, artwork and cards\, jewelry\, and vintage goodies\, in addition to all of the wonderful finds inside the shop. We will have plenty of hot apple cider and treats on hand\, to warm your spirit. Join us at Stifel &amp\; Capra\, 260 West Broad Street\, Falls Church\, VA 22046.&nbsp\;
LOCATION:Stfiel & Capra\, 260 West Broad Street\, Falls Church\, VA 22046
UID:e.1250.400
SEQUENCE:3
DTSTAMP:20260426T032221Z
URL:https://business.fallschurchchamber.org/events/details/holiday-art-gift-market-at-stifel-capra-11-17-2012-400
END:VEVENT

END:VCALENDAR
