BEGIN:VCALENDAR
VERSION:2.0
PRODID:-//ChamberMaster//Event Calendar 2.0//EN
METHOD:PUBLISH
X-PUBLISHED-TTL:P3D
REFRESH-INTERVAL:P3D
CALSCALE:GREGORIAN
BEGIN:VEVENT
DTSTART:20121103T170000Z
DTEND:20121103T190000Z
X-MICROSOFT-CDO-ALLDAYEVENT:FALSE
SUMMARY:Holiday Wine Bazaar & Grand Tasting
DESCRIPTION:Holiday Wine Bazaar & Grand Tasting\n\n	Join us at our Holiday Wine Bazaar & Grand Tasting as our Wine Experts present a variety of quality wines at holiday bargain prices! This is a tasting similar to our Monday Wine Tasting with the Expert\, but our Bazaar will feature ALL of our experts at the same time! Each Expert will feature one red\, one white\, one sparkling\, and one wine of their choice. \n\n	That's a total of 16 wines for our Grand Tasting! \n\n	Saturday November 3\, 2012 \n\n	Gabe Pica from Select Wines \n\n	Justin Garza from Republic National \n\n	Mandy Tamplin from \n\n	Roanoke Valley Wine Company \n\n	This is a great time to plan your Thanksgiving Dinner wine pairings\, gather gifts for friends and family\, and stock up for celebrating the holidays! For those Wine Club Members who have been collecting passport stamps\, this is a great time to redeem those stamps for your free bottle \n\n	(a $50 value for 16 stamps)! \n\n	Wine Club Member Grand Tasting $10/person \n\n	Non-Wine Club Member Grand Tasting $15/person \n\n	Cheers! And here's to drinking more wine! \n\n	Reservations are not required\, but we would appreciate a quick email to let us know you're coming! \n\n	Email: info@openkitchen-dcmetro.com \n\n	\n\n	Click here for more info!
X-ALT-DESC;FMTTYPE=text/html:<span style="font-size: 16px">Holiday Wine Bazaar &amp\; Grand Tasting</span>\n<p align="left">\n	<i><font size="2">Join us at our Holiday Wine Bazaar &amp\; Grand Tasting as our Wine Experts present a variety of quality wines at holiday bargain prices! This is a tasting similar to our Monday Wine Tasting with the Expert\, but our Bazaar will feature ALL of our experts at the same time! Each Expert will feature one red\, one white\, one sparkling\, and one wine of their choice. </font></i></p>\n<p>\n	<i><font size="2">That&#39\;s a total of 16 wines for our Grand Tasting! </font></i></p>\n<p>\n	<font face="Segoe Script\,Segoe Script" size="2"><font face="Segoe Script\,Segoe Script" size="2">Saturday November 3\, 2012 </font></font></p>\n<p>\n	<b><i><font face="Century Gothic\,Century Gothic" size="2"><font face="Century Gothic\,Century Gothic" size="2">Gabe Pica from Select Wines </font></font></i></b></p>\n<p>\n	<b><i><font face="Century Gothic\,Century Gothic" size="2"><font face="Century Gothic\,Century Gothic" size="2">Justin Garza from Republic National </font></font></i></b></p>\n<p>\n	<b><i><font face="Century Gothic\,Century Gothic" size="2"><font face="Century Gothic\,Century Gothic" size="2">Mandy Tamplin from </font></font></i></b></p>\n<p>\n	<b><i><font face="Century Gothic\,Century Gothic" size="2"><font face="Century Gothic\,Century Gothic" size="2">Roanoke Valley Wine Company </font></font></i></b></p>\n<p>\n	<i><font size="2">This is a great time to plan your Thanksgiving Dinner wine pairings\, gather gifts for friends and family\, and stock up for celebrating the holidays! For those Wine Club Members who have been collecting passport stamps\, this is a great time to redeem those stamps for your free bottle </font></i></p>\n<p>\n	<i><font size="2">(a $50 value for 16 stamps)! </font></i></p>\n<p>\n	<i><b><font face="Century Gothic\,Century Gothic" size="2"><font face="Century Gothic\,Century Gothic" size="2">Wine Club Member Grand Tasting $10/person </font></font></b></i></p>\n<p>\n	<i><b><font face="Century Gothic\,Century Gothic" size="2"><font face="Century Gothic\,Century Gothic" size="2">Non-Wine Club Member Grand Tasting $15/person </font></font></b></i></p>\n<p>\n	<font face="Segoe Print\,Segoe Print" size="2"><font face="Segoe Print\,Segoe Print" size="2">Cheers! And here&#39\;s to drinking more wine! </font></font></p>\n<p>\n	<b><i><font face="Century Gothic\,Century Gothic" size="1"><font face="Century Gothic\,Century Gothic" size="1">Reservations are not required\, but we would appreciate a quick email to let us know you&#39\;re coming! </font></font></i></b></p>\n<p>\n	<i><font size="1">Email: info@openkitchen-dcmetro.com </font></i><br />\n	<br />\n	<a href="http://openkitchen-dcmetro.com/wp-content/uploads/2012/10/Holiday-Wine-Bazaar.pdf?utm_source=Buzz+10.30.12+Power+is+on%3B+We%27re+Open%21&amp\;utm_campaign=Buzz+10.30.12++Sandy+Didn%27t+Scare+Us%21&amp\;utm_medium=email"><font size="1"><span style="font-size: 16px">Click here for more info!</span></font></a></p>\n<font size="1"><span _fck_bookmark="1" style="display: none">&nbsp\;</span></font>
LOCATION:7115 Leesburg Pike #107 Falls Church\, VA 703-942-8148
UID:e.1250.394
SEQUENCE:3
DTSTAMP:20260426T031451Z
URL:https://business.fallschurchchamber.org/events/details/holiday-wine-bazaar-grand-tasting-11-03-2012-394
END:VEVENT

END:VCALENDAR
