BEGIN:VCALENDAR
VERSION:2.0
PRODID:-//ChamberMaster//Event Calendar 2.0//EN
METHOD:PUBLISH
X-PUBLISHED-TTL:P3D
REFRESH-INTERVAL:P3D
CALSCALE:GREGORIAN
BEGIN:VEVENT
DTSTART;VALUE=DATE:20121121
DTEND;VALUE=DATE:20121206
TRANSP:TRANSPARENT
X-MICROSOFT-CDO-ALLDAYEVENT:TRUE
SUMMARY:Holidays In Falls Church Pinterest Event
DESCRIPTION:You or someone you know on Pinterest? Create a "board" called "Holidays in Falls Church" then submit your board to be entered to win local gift certificates or an iPad Mini!\n\n\n\nhttp://thebeltwaylife.com/holidaysinfallschurch
X-ALT-DESC;FMTTYPE=text/html:You or someone you know on Pinterest? Create a &quot\;board&quot\; called &quot\;Holidays in Falls Church&quot\; then submit your board to be entered to win local gift certificates or an iPad Mini!<br />\n<br />\nhttp://thebeltwaylife.com/holidaysinfallschurch
LOCATION:Falls Church
UID:e.1250.412
SEQUENCE:3
DTSTAMP:20260426T031930Z
URL:https://business.fallschurchchamber.org/events/details/holidays-in-falls-church-pinterest-event-11-21-2012-412
END:VEVENT

END:VCALENDAR
