BEGIN:VCALENDAR
VERSION:2.0
PRODID:-//ChamberMaster//Event Calendar 2.0//EN
METHOD:PUBLISH
X-PUBLISHED-TTL:P3D
REFRESH-INTERVAL:P3D
CALSCALE:GREGORIAN
BEGIN:VEVENT
DTSTART:20111011T210000Z
DTEND:20111012T000000Z
X-MICROSOFT-CDO-ALLDAYEVENT:FALSE
SUMMARY:Homeless Shelter Fundraiser at Claire & Don's
DESCRIPTION:Stop by Clare and Don's Beach Shack tonight\, Tues\, Oct 11\, between 5-8 and help raise funds for the homeless shelter. www.clareanddons.com
X-ALT-DESC;FMTTYPE=text/html:<p>\n	<span class="Apple-style-span" style="widows: 2\; text-transform: none\; text-indent: 0px\; letter-spacing: normal\; font: 14px/18px tahoma\, verdana\, arial\, helvetica\, 'bitstream vera sans'\, sans-serif\; white-space: normal\; orphans: 2\; color: rgb(0\,0\,0)\; word-spacing: 0px\; -webkit-text-decorations-in-effect: none\; -webkit-text-size-adjust: auto\; -webkit-text-stroke-width: 0px"><span class="Apple-style-span" style="widows: 2\; text-transform: none\; text-indent: 0px\; letter-spacing: normal\; font: 14px/18px tahoma\, verdana\, arial\, helvetica\, 'bitstream vera sans'\, sans-serif\; white-space: normal\; orphans: 2\; color: rgb(0\,0\,0)\; word-spacing: 0px\; -webkit-text-decorations-in-effect: none\; -webkit-text-size-adjust: auto\; -webkit-text-stroke-width: 0px">Stop by Clare and Don&#39\;s Beach Shack tonight\, Tues\, Oct 11\, between 5-8 and help raise funds for the homeless shelter. <a href="http://www.clareanddons.com">www.clareanddons.com</a><span _fck_bookmark="1" style="display: none">&nbsp\;</span></span></span></p>\n
LOCATION:Clare & Don's Beach Shack 130 N. Washinton St. Falls Church
UID:e.1250.161
SEQUENCE:3
DTSTAMP:20260423T055634Z
URL:https://business.fallschurchchamber.org/events/details/homeless-shelter-fundraiser-at-claire-don-s-10-11-2011-161
END:VEVENT

END:VCALENDAR
