BEGIN:VCALENDAR
VERSION:2.0
PRODID:-//ChamberMaster//Event Calendar 2.0//EN
METHOD:PUBLISH
X-PUBLISHED-TTL:P3D
REFRESH-INTERVAL:P3D
CALSCALE:GREGORIAN
BEGIN:VEVENT
DTSTART;VALUE=DATE:20241119
DTEND;VALUE=DATE:20241120
TRANSP:TRANSPARENT
X-MICROSOFT-CDO-ALLDAYEVENT:TRUE
SUMMARY:Homestretch Restaurant Fundraiser
DESCRIPTION:In recognition of National Hunger and Homelessness Awareness Week\, Wendys (7391 Lee Highway\, Falls Church) will be donating 20% of their proceeds to Homestretch. (Please mention Homestretch when ordering.)
X-ALT-DESC;FMTTYPE=text/html:In recognition of National Hunger and Homelessness Awareness Week\, Wendys (7391 Lee Highway\, Falls Church) will be donating 20% of their proceeds to Homestretch. (Please mention Homestretch when ordering.)&nbsp\;
LOCATION:Wendy's 7391 Lee Highway Falls Church\, VA
UID:e.1250.78817
SEQUENCE:3
DTSTAMP:20260421T183310Z
URL:https://business.fallschurchchamber.org/events/details/homestretch-restaurant-fundraiser-11-19-2024-78817
END:VEVENT

END:VCALENDAR
