BEGIN:VCALENDAR
VERSION:2.0
PRODID:-//ChamberMaster//Event Calendar 2.0//EN
METHOD:PUBLISH
X-PUBLISHED-TTL:P3D
REFRESH-INTERVAL:P3D
CALSCALE:GREGORIAN
BEGIN:VEVENT
DTSTART:20121028T160000Z
DTEND:20121028T200000Z
X-MICROSOFT-CDO-ALLDAYEVENT:FALSE
SUMMARY:Howl-O-Ween Festival
DESCRIPTION:Unleashed by Petco is offering free treats for pets\, seminars\, a costume contest\, and goodies for the kiddies!  Free refreshments and snacks for all!  Bring in your "fur-togenic" pet and have your "paw-traits" taken!\n\n	 \n\n	Sun\, Oct 28 from noon to 4.\n\n	7395 Lee Hwy.
X-ALT-DESC;FMTTYPE=text/html:<div style="color: gray">\n	<span style="font-size: 10pt"><span style="color: #003554"><span style="font-family: tahoma\, sans-serif"><span style="font-family: tahoma">Unleashed by Petco is offering free treats for pets\, seminars\, a costume contest\, and goodies for the kiddies!&nbsp\; Free&nbsp\;refreshments and snacks for all!&nbsp\; Bring in your &quot\;fur-togenic&quot\; pet and have your &quot\;paw-traits&quot\; taken!<br />\n	&nbsp\;<br />\n	Sun\, Oct 28 from noon to 4.<br />\n	7395 Lee Hwy.&nbsp\;&nbsp\;</span></span></span></span></div>\n
LOCATION:Unleashed by Petco 7395 Lee Highway Falls Church
UID:e.1250.392
SEQUENCE:3
DTSTAMP:20260426T012530Z
URL:https://business.fallschurchchamber.org/events/details/howl-o-ween-festival-10-28-2012-392
END:VEVENT

END:VCALENDAR
