BEGIN:VCALENDAR
VERSION:2.0
PRODID:-//ChamberMaster//Event Calendar 2.0//EN
METHOD:PUBLISH
X-PUBLISHED-TTL:P3D
REFRESH-INTERVAL:P3D
CALSCALE:GREGORIAN
BEGIN:VEVENT
DTSTART:20120106T000000Z
DTEND:20120106T030000Z
X-MICROSOFT-CDO-ALLDAYEVENT:FALSE
SUMMARY:"Images" Photography Show Opening Reception
DESCRIPTION:"Images" Photography Show Opens January 5\, 2012\n\nReception at ArtSpace\, Thursday\, January 5\, from 7:00 until 10:00 pm\n\n\n\nThe talents of area photographers will be on display in this first-ever FCA photography show. Join us on January 5 to meet the artists and see their work. Juror Louise Jaffe will be on hand to discuss her choices.\n\n\n\n\n	Show Dates : January 5-22\, 2012\n\n	 \n\n	Reception: Thursday\, January 5\, 7:00 - 10:00 pm \n\n	Location: ArtSpace Falls Church\, 410 S. Maple Ave.\, Falls Church\, VA
X-ALT-DESC;FMTTYPE=text/html:<span style="color: rgb(127\,52\,164)\; font-size: 11pt"><strong>&quot\;Images&quot\; Photography Show Opens January 5\, 2012<br />\n<span style="color: rgb(0\,0\,0)\; font-size: 9pt">Reception at ArtSpace\, Thursday\, January 5\, from 7:00 until 10:00 pm</span></strong><br />\n<br />\n<span style="color: rgb(0\,0\,0)\; font-size: 9pt">The talents of area photographers will be on display in this first-ever FCA photography show. Join us on January 5 to meet the artists and see their work. Juror <a href="http://r20.rs6.net/tn.jsp?llr=qphs8gcab&amp\;et=1109020836329&amp\;s=41&amp\;e=001R-V8iC8VRaEr8BPtd0by4YDpqudm_5uPRM0Lk7W9AMwQr8wK-CTsSfdub725y51ofN4bgQaxKU4Jdd4rAQvbMV5l-NwhUAs7Z_iWqreOQJmULjCAmIF1Htc6d5ftB91m" shape="rect" style="color: rgb(0\,0\,0)\; text-decoration: underline" target="_blank" title="http://r20.rs6.net/tn.jsp?llr=qphs8gcab&amp\;et=1109020836329&amp\;s=41&amp\;e=001R-V8iC8VRaEr8BPtd0by4YDpqudm_5uPRM0Lk7W9AMwQr8wK-CTsSfdub725y51ofN4bgQaxKU4Jdd4rAQvbMV5l-NwhUAs7Z_iWqreOQJmULjCAmIF1Htc6d5ftB91m">Louise Jaffe</a> will be on hand to discuss her choices.</span></span><br />\n<br />\n<p style="margin-bottom: 0px">\n	<span style="color: rgb(127\,52\,164)\; font-size: 11pt"><span style="color: rgb(0\,0\,0)\; font-size: 9pt"><strong>Show Dates </strong>: January 5-22\, 2012</span></span><br />\n	&nbsp\;</p>\n<p style="margin-bottom: 0px">\n	<span style="color: rgb(127\,52\,164)\; font-size: 11pt"><span style="color: rgb(0\,0\,0)\; font-size: 9pt"><strong>Reception:</strong> Thursday\, January 5\, 7:00 - 10:00 pm&nbsp\;</span></span></p>\n<p style="margin-bottom: 0px">\n	<span style="color: rgb(127\,52\,164)\; font-size: 11pt"><span style="color: rgb(0\,0\,0)\; font-size: 9pt"><strong>Location:</strong> ArtSpace Falls Church\, 410 S. Maple Ave.\, Falls Church\, VA&nbsp\;<span _fck_bookmark="1" style="display: none">&nbsp\;</span></span></span></p>\n
LOCATION:ArtSpace Falls Church\, 410 S. Maple Ave.\, Falls Church\, VA
UID:e.1250.188
SEQUENCE:3
DTSTAMP:20260423T103202Z
URL:https://business.fallschurchchamber.org/events/details/images-photography-show-opening-reception-01-05-2012-188
END:VEVENT

END:VCALENDAR
