BEGIN:VCALENDAR
VERSION:2.0
PRODID:-//ChamberMaster//Event Calendar 2.0//EN
METHOD:PUBLISH
X-PUBLISHED-TTL:P3D
REFRESH-INTERVAL:P3D
CALSCALE:GREGORIAN
BEGIN:VEVENT
DTSTART:20111113T183000Z
DTEND:20111113T203000Z
X-MICROSOFT-CDO-ALLDAYEVENT:FALSE
SUMMARY:Improve Your Money Energy and Grow Your Financial Power
DESCRIPTION:In this workshop\, we will discuss how to tap into our own ability to create wealth.   Also\, we will examine our attitudes towards money and stewardship in order to manage wealth successfully.  The workshop will\n\nexplore the three stages of life:  accumulation\, preservation\, and distribution.  The strategies employed in each stage\, including risk management\, will determine our ability to achieve financial freedom and empowerment. \n\n\n\n\n\n\n\n\n\nSusan Brownis a Principal and senior member of the Washington Equity Planning\, Her primary focus is developing holistic wealth management strategies for high net worth clients.  Drawing on her broad experience and the resources of her broker/dealer\, Investors Capital Corp.\, she is able to provide unbiased\, individualized investment solutions focused on total wealth management needs including\, investment planning\, tax sensitive investing\, insurance\, college planning\, estate and wealth transfer planning.  With over 15 years of experience\, Susan is a seasoned professional who is well suited to assist clients in making life-changing financial decisions. Susan has successfully completed the Certified Financial Planning Curriculum and earned an Executive Certificate in Financial Planning from Georgetown University.  These distinct qualifications along with her years of experience enable her to provide skillful guidance to individuals\, families and small  businesses in their pursuit of financial security.  Before founding Washington Equity Planning\, Susan was a Compliance Principal for H. Beck Inc.\, a securities broker dealer. She is a graduate of Emmanuel College in Boston\, MA and spent time as a researcher at Harvard University. \n\n \n\nTO REGISTER:  Simply come on by. Check or cash at the door\, please.  Please send us an email to THECSE@THECSE.ORGor call and leave a message at (703) 645-8060 to help us determine how many guests to expect.  This workshop will take place at The Center for Spiritual Enlightenment located at 222 N. Washington Street in Falls Church\, Virginia .  See our website for parking tips.
X-ALT-DESC;FMTTYPE=text/html:<br />\n<span style="font-size: 12pt"><span style="font-family: poor richard"><strong><span style="font-family: times new roman"><span style="font-size: 10.5pt">In this workshop\, we will discuss how to tap into our own ability to create wealth.&nbsp\;&nbsp\; Also\, we will examine our attitudes towards money and stewardship in order to manage wealth successfully.&nbsp\; The workshop will<br />\nexplore the three stages of life:&nbsp\; accumulation\, preservation\, and distribution.&nbsp\; The strategies employed in each stage\, including risk management\, will determine our ability to achieve financial freedom and empowerment.</span></span>&nbsp\;<br />\n<br />\n<br />\n<br />\n<br />\nSusan Brown</strong></span></span><span style="font-size: 10pt"><span style="font-family: poor richard">is a Principal and senior member of the Washington Equity Planning\, Her primary focus is developing holistic wealth management strategies for high net worth clients.&nbsp\; Drawing on her broad experience and the resources of her broker/dealer\, Investors Capital Corp.\, she is able to provide unbiased\, individualized investment solutions focused on total wealth management needs including\, investment planning\, tax sensitive investing\, insurance\, college planning\, estate and wealth transfer planning.&nbsp\; With over 15 years of experience\, Susan is a seasoned professional who is well suited to assist clients in making life-changing financial decisions. Susan has successfully completed the Certified Financial Planning Curriculum and earned an Executive Certificate in Financial Planning from Georgetown University.&nbsp\; These distinct qualifications along with her years of experience enable her to provide skillful guidance to individuals\, families and small&nbsp\;&nbsp\;<span style="font-size: 10pt"><span style="font-family: poor richard">businesses in their pursuit of financial security.&nbsp\; Before founding Washington Equity Planning\, Susan was a Compliance Principal for H. Beck Inc.\, a securities broker dealer. She is a graduate of Emmanuel College in Boston\, MA and spent time as a researcher at Harvard University</span></span><span style="font-size: 10pt"><span style="font-family: times new roman">. </span></span><br />\n&nbsp\;<br />\n<span style="font-family: times new roman"><strong><span style="color: #003300">TO REGISTER:</span></strong></span>&nbsp\; Simply come on by. Check or cash at the door\, please. &nbsp\;Please send us an email to <a href="mailto:THECSE@THECSE.ORG"><span style="font-family: times new roman">THECSE@THECSE.ORG</span></a><span style="font-family: times new roman">or call and leave a message at (703) 645-8060 to help us determine how many guests to expect.&nbsp\; This workshop will take place at The Center for Spiritual Enlightenment located at 222 N. Washington Street in Falls Church\, Virginia .&nbsp\; See our website for parking tips.&nbsp\;</span></span></span><br />\n<br />\n<br />\n
LOCATION:The Center For Spiritual Enlightenment 222 N. Washington St. Falls Church
UID:e.1250.173
SEQUENCE:3
DTSTAMP:20260423T071228Z
URL:https://business.fallschurchchamber.org/events/details/improve-your-money-energy-and-grow-your-financial-power-11-13-2011-173
END:VEVENT

END:VCALENDAR
