BEGIN:VCALENDAR
VERSION:2.0
PRODID:-//ChamberMaster//Event Calendar 2.0//EN
METHOD:PUBLISH
X-PUBLISHED-TTL:P3D
REFRESH-INTERVAL:P3D
CALSCALE:GREGORIAN
BEGIN:VEVENT
DTSTART:20250822T233000Z
DTEND:20250823T030000Z
X-MICROSOFT-CDO-ALLDAYEVENT:FALSE
SUMMARY:IO the Singer "The Art & Soul of Nina Simone"
DESCRIPTION:Jazz\, soul\, rock vocalist iO\, does it all\, singer\, songwriter\, and vocal arranger with a voice and style often compared to legends like Tina Turner\, Tracy Chapman\, Joni Mitchell\, Whitney Houston\, and Sarah Vaughan. Her career spans sold-out solo performances across Europe and iconic stages like the Tate Modern in London and the Kennedy Center in Washington\, D.C. https://www.instagram.com/iothesinger/?
X-ALT-DESC;FMTTYPE=text/html:<span style="background-color: rgb(244\, 247\, 248)\; color: rgb(44\, 54\, 58)\; font-family: oxygen\;">Jazz\, soul\, rock vocalist iO\, does it all\,&nbsp\;singer\, songwriter\, and vocal arranger with a voice and style often compared to legends like Tina Turner\, Tracy Chapman\, Joni Mitchell\, Whitney Houston\, and Sarah Vaughan. Her career spans sold-out solo performances across Europe and iconic stages like the Tate Modern in London and the Kennedy Center in Washington\, D.C.&nbsp\;</span><span style="font-size:14px\;"><a href="https://www.instagram.com/iothesinger/" style="color: rgb(72\, 51\, 83)\; transition: 200ms linear\; font-family: Oxygen\; font-size: 12.6px\; background-color: rgb(244\, 247\, 248)\;" target="_blank">https://www.instagram.com/iothesinger/?</a></span>
LOCATION:Creative Cauldron 127 E Broad St.\, Falls Church\, VA 22046
UID:e.1250.81005
SEQUENCE:3
DTSTAMP:20260420T103417Z
URL:https://business.fallschurchchamber.org/events/details/io-the-singer-the-art-soul-of-nina-simone-81005
END:VEVENT

END:VCALENDAR
