BEGIN:VCALENDAR
VERSION:2.0
PRODID:-//ChamberMaster//Event Calendar 2.0//EN
METHOD:PUBLISH
X-PUBLISHED-TTL:P3D
REFRESH-INTERVAL:P3D
CALSCALE:GREGORIAN
BEGIN:VEVENT
DTSTART:20170114T003000Z
DTEND:20170114T020000Z
X-MICROSOFT-CDO-ALLDAYEVENT:FALSE
SUMMARY:IONA
DESCRIPTION:IONA's music is a unique\, acoustic weave of the traditional music of Scotland\, Ireland\, Wales\, Cornwall\, Brittany (France)\, the Isle of Man\, Asturies and Galicia (Spain)\, as well as their transplants in America. Blending songs\, dance tunes\, and aires into a rich and stunning tapestry\, their style is outstanding in an arena where these traditions are seldom intertwined. IONA is known for toe tapping dances\, haunting songs\, and the humor of the Celtic peoples. All of the band members play multiple instruments pursuing complex rhythms with deft professionalism. IONA's performances are fun and interactive so come ready to learn a new song and clap along!\n\n	\n		\n			Sponsored by Mark F. Werblood\, Esq.
X-ALT-DESC;FMTTYPE=text/html:<span style="color:rgb(42\, 42\, 42)\; font-family:oxygen\; font-size:15px">IONA&#39\;s music is a unique\, acoustic weave of the traditional music of Scotland\, Ireland\, Wales\, Cornwall\, Brittany (France)\, the Isle of Man\, Asturies and Galicia (Spain)\, as well as their transplants in America. Blending songs\, dance tunes\, and aires into a rich and stunning tapestry\, their style is outstanding in an arena where these traditions are seldom intertwined. IONA is known for toe tapping dances\, haunting songs\, and the humor of the Celtic peoples. All of the band members play multiple instruments pursuing complex rhythms with deft professionalism. IONA&rsquo\;s performances are fun and interactive so come ready to learn a new song and clap along!</span>\n<table class="wsite-multicol-table" style="border-collapse:collapse\; border:0px !important\; font-family:merriweather\,arial\,sans-serif\; font-size:15px\; margin:0px !important\; padding:0px !important\; position:relative\; table-layout:fixed\; width:1085px">\n	<tbody>\n		<tr>\n			<td style="vertical-align:top\; width:689.65625px"><strong>Sponsored by&nbsp\;</strong><strong>Mark F. Werblood\, Esq.</strong></td>\n		</tr>\n	</tbody>\n</table>\n&nbsp\;\n\n<table class="wsite-multicol-table" style="border-collapse:collapse\; border:0px !important\; font-family:merriweather\,arial\,sans-serif\; font-size:15px\; margin:0px !important\; padding:0px !important\; position:relative\; table-layout:fixed\; width:1085px">\n	<tbody>\n	</tbody>\n</table>\n
LOCATION:Creative Cauldron 410 S Maple Ave Falls Church\, VA 22046
UID:e.1250.14555
SEQUENCE:3
DTSTAMP:20260421T215941Z
URL:https://business.fallschurchchamber.org/events/details/iona-14555
END:VEVENT

END:VCALENDAR
